BEGIN:VCALENDAR
VERSION:2.0
PRODID:-//caputah.org//NONSGML kigkonsult.se iCalcreator 2.30.10//
CALSCALE:GREGORIAN
METHOD:PUBLISH
UID:6bcda7f7-f008-4d8f-8071-04e2cd45a710
X-WR-CALDESC:We’ve added a coffee chat this Thursday\, July 3rd\, at 1:30 P
 M ET. David will run through what is happening in Washington\, DC\, and ho
 w it impacts Community Action.
X-WR-RELCALID:26b84e7e4230e187430beb41ffbbbfe0
X-WR-TIMEZONE:America/Denver
BEGIN:VTIMEZONE
TZID:America/Denver
BEGIN:STANDARD
TZNAME:MST
DTSTART:20241103T020000
TZOFFSETFROM:-0600
TZOFFSETTO:-0700
RDATE:20251102T020000
RDATE:20261101T020000
END:STANDARD
BEGIN:DAYLIGHT
TZNAME:MDT
DTSTART:20250309T020000
TZOFFSETFROM:-0700
TZOFFSETTO:-0600
RDATE:20260308T020000
END:DAYLIGHT
END:VTIMEZONE
BEGIN:VEVENT
UID:c96e02f2-2ef8-46d8-9d6a-2bd47dd2237e
DTSTAMP:20260422T151815Z
DESCRIPTION:We’ve added a coffee chat this Thursday\, July 3rd\, at 1:30 PM
  ET. David will run through what is happening in Washington\, DC\, and how
  it impacts Community Action.
DTSTART;TZID=America/Denver:20250703T113000
DTEND;TZID=America/Denver:20250703T123000
LOCATION:https://us02web.zoom.us/webinar/register/WN_7fRzzSkXTXWShkAUt4Mz-A
 #/registration
SUMMARY:NCAF - July 2025 Coffee Chat with David Bradley
END:VEVENT
END:VCALENDAR
