BEGIN:VCALENDAR
VERSION:2.0
PRODID:-//caputah.org//NONSGML kigkonsult.se iCalcreator 2.30.10//
CALSCALE:GREGORIAN
METHOD:PUBLISH
UID:d5b954e8-23fc-4d58-ba25-2dc3609825d3
X-WR-CALDESC:Join NCAP for a continuation of the Roundtable series for curr
 ent Community Action Executive Directors and CEOs. The Roundtables are des
 igned to provide space for an engaging session where EDs and CEOs will hav
 e the opportunity to participate in confidential small group discussions w
 ith peers.\n \nThese Roundtables are an opportunity to discuss emerging is
 sues\, get updates on available tools and resources\, and learn effective 
 strategies from your peers. EDs and CEOs may sign up for one or more round
 table sessions.\n\nRegister now to attend the Roundtables in July! Additio
 nal dates in August and September will be announced soon. Stay tuned!\n
X-WR-RELCALID:d7fb64a16fed6aa93fb5548e81719f34
X-WR-TIMEZONE:America/Denver
BEGIN:VTIMEZONE
TZID:America/Denver
BEGIN:STANDARD
TZNAME:MST
DTSTART:20241103T020000
TZOFFSETFROM:-0600
TZOFFSETTO:-0700
RDATE:20251102T020000
RDATE:20261101T020000
END:STANDARD
BEGIN:DAYLIGHT
TZNAME:MDT
DTSTART:20250309T020000
TZOFFSETFROM:-0700
TZOFFSETTO:-0600
RDATE:20260308T020000
END:DAYLIGHT
END:VTIMEZONE
BEGIN:VEVENT
UID:679febcc-5724-4d3f-924e-f9eb3d74a3eb
DTSTAMP:20260422T152029Z
DESCRIPTION:Join NCAP for a continuation of the Roundtable series for curre
 nt Community Action Executive Directors and CEOs. The Roundtables are desi
 gned to provide space for an engaging session where EDs and CEOs will have
  the opportunity to participate in confidential small group discussions wi
 th peers.\n \nThese Roundtables are an opportunity to discuss emerging iss
 ues\, get updates on available tools and resources\, and learn effective s
 trategies from your peers. EDs and CEOs may sign up for one or more roundt
 able sessions.\n\nRegister now to attend the Roundtables in July! Addition
 al dates in August and September will be announced soon. Stay tuned!\n
DTSTART;TZID=America/Denver:20250708T140000
DTEND;TZID=America/Denver:20250708T150000
LOCATION:https://ncap.users.membersuite.com/home
SUMMARY:NCAP - ED/CEO Roundtables: Responding to the Shifting Landscape
END:VEVENT
END:VCALENDAR
