BEGIN:VCALENDAR
VERSION:2.0
PRODID:-//caputah.org//NONSGML kigkonsult.se iCalcreator 2.30.10//
CALSCALE:GREGORIAN
METHOD:PUBLISH
UID:ccef8efd-d0bf-4f67-95d1-54d6e4c46136
X-WR-CALDESC:Scenario planning helps organizations prepare for a range of p
 ossible futures—best-case to worst-case—by focusing on high-impact\, high-
 probability risks. With ongoing policy shifts\, funding uncertainty\, and 
 unpredictable weather\, this structured approach supports better decision-
 making and builds resilience in times of uncertainty. NCAP’s Scenario Plan
 ning Toolkit offers templates and guidance to assess financial\, operation
 al\, and community impacts\, and helps teams develop decision filters to g
 uide responses. This session will provide a brief overview of scenario pla
 nning\, highlight key resources and approaches from the Toolkit\, and use 
 peer discussion to explore how Weatherization program managers can apply s
 cenario planning in their departments and in their organizations.
X-WR-RELCALID:0582b5a3dd0e6a7c7dd0fc40831a0b6b
X-WR-TIMEZONE:America/Denver
BEGIN:VTIMEZONE
TZID:America/Denver
BEGIN:STANDARD
TZNAME:MST
DTSTART:20241103T020000
TZOFFSETFROM:-0600
TZOFFSETTO:-0700
RDATE:20251102T020000
RDATE:20261101T020000
END:STANDARD
BEGIN:DAYLIGHT
TZNAME:MDT
DTSTART:20250309T020000
TZOFFSETFROM:-0700
TZOFFSETTO:-0600
RDATE:20260308T020000
END:DAYLIGHT
END:VTIMEZONE
BEGIN:VEVENT
UID:999c4532-a826-450f-886b-55fd0133b399
DTSTAMP:20260422T163754Z
DESCRIPTION:Scenario planning helps organizations prepare for a range of po
 ssible futures—best-case to worst-case—by focusing on high-impact\, high-p
 robability risks. With ongoing policy shifts\, funding uncertainty\, and u
 npredictable weather\, this structured approach supports better decision-m
 aking and builds resilience in times of uncertainty. NCAP’s Scenario Plann
 ing Toolkit offers templates and guidance to assess financial\, operationa
 l\, and community impacts\, and helps teams develop decision filters to gu
 ide responses. This session will provide a brief overview of scenario plan
 ning\, highlight key resources and approaches from the Toolkit\, and use p
 eer discussion to explore how Weatherization program managers can apply sc
 enario planning in their departments and in their organizations.
DTSTART;TZID=America/Denver:20250708T120000
DTEND;TZID=America/Denver:20250708T130000
LOCATION:https://communityactionpartnership.zoom.us/webinar/register/WN_Ba4
 RlgdxSp-E1AOE-SEovA#/registration
SUMMARY:NCAP - Putting Scenario Planning to Work for Weatherization
END:VEVENT
END:VCALENDAR
