BEGIN:VCALENDAR
VERSION:2.0
PRODID:-//caputah.org//NONSGML kigkonsult.se iCalcreator 2.30.10//
CALSCALE:GREGORIAN
METHOD:PUBLISH
UID:d9497003-ff21-4c4f-9e53-c30b86f9ac3a
X-WR-CALDESC:The Ledger Lab Series (June 5\, 12\, 17\, 24\, and July 8)\n\n
 Join UNA and our nonprofit financial experts for an exciting new learning 
 opportunity\, the 2025 Ledger Lab Series.\n\nRunning a nonprofit is all ab
 out achieving your mission\, not managing the books. But as crucial as you
 r cause is\, solid financial management is key to your success now more th
 an ever. In this hands-on\, interactive series\, we’ll help you simplify f
 inancial management by covering the essentials you need to know—financial 
 statements\, reporting\, cost optimization\, fraud prevention\, and QuickB
 ooks management.\n\nThis five course series will provide the guidance you 
 need to transform bookkeeping from a burden to an empowering tool\, helpin
 g you focus more on what truly matters: driving your mission forward.\n\nN
 o pitches\, no product demos—just the information you need to set yourself
  up for success.\n\nTo support your learning goals\, the training sessions
  will be recorded and shared with registrants after the sessions are compl
 eted.\n\nCost:\nUNA Members: $180 for the first person/$40 for each additi
 onal participant\nNot-Yet Members: $360 for the first person/$80 for each 
 additional participant\n\nREGISTER HERE for the full series and take advan
 tage of discounted package deal.\n\nMore details on some of the trainings 
 will be available after the dust settles from tax season.\n\nPrefer to cus
 tomize your experience? You can also purchase individual trainings à la ca
 rte by selecting the courses on the registration page. Course details will
  expand when you click on the image icon or individual course links.
X-WR-RELCALID:b3ae625e3021a953300573ff9081eb01
X-WR-TIMEZONE:America/Denver
BEGIN:VTIMEZONE
TZID:America/Denver
BEGIN:STANDARD
TZNAME:MST
DTSTART:20241103T020000
TZOFFSETFROM:-0600
TZOFFSETTO:-0700
RDATE:20251102T020000
RDATE:20261101T020000
END:STANDARD
BEGIN:DAYLIGHT
TZNAME:MDT
DTSTART:20250309T020000
TZOFFSETFROM:-0700
TZOFFSETTO:-0600
RDATE:20260308T020000
END:DAYLIGHT
END:VTIMEZONE
BEGIN:VEVENT
UID:0ef9a937-25d8-48c7-9180-f3887014246f
DTSTAMP:20260422T151942Z
DESCRIPTION:The Ledger Lab Series (June 5\, 12\, 17\, 24\, and July 8)\n\nJ
 oin UNA and our nonprofit financial experts for an exciting new learning o
 pportunity\, the 2025 Ledger Lab Series.\n\nRunning a nonprofit is all abo
 ut achieving your mission\, not managing the books. But as crucial as your
  cause is\, solid financial management is key to your success now more tha
 n ever. In this hands-on\, interactive series\, we’ll help you simplify fi
 nancial management by covering the essentials you need to know—financial s
 tatements\, reporting\, cost optimization\, fraud prevention\, and QuickBo
 oks management.\n\nThis five course series will provide the guidance you n
 eed to transform bookkeeping from a burden to an empowering tool\, helping
  you focus more on what truly matters: driving your mission forward.\n\nNo
  pitches\, no product demos—just the information you need to set yourself 
 up for success.\n\nTo support your learning goals\, the training sessions 
 will be recorded and shared with registrants after the sessions are comple
 ted.\n\nCost:\nUNA Members: $180 for the first person/$40 for each additio
 nal participant\nNot-Yet Members: $360 for the first person/$80 for each a
 dditional participant\n\nREGISTER HERE for the full series and take advant
 age of discounted package deal.\n\nMore details on some of the trainings w
 ill be available after the dust settles from tax season.\n\nPrefer to cust
 omize your experience? You can also purchase individual trainings à la car
 te by selecting the courses on the registration page. Course details will 
 expand when you click on the image icon or individual course links.
DTSTART;TZID=America/Denver:20250708T100000
DTEND;TZID=America/Denver:20250708T113000
LOCATION:https://members.utahnonprofits.org/una-event-calendar/Details/the-
 ledger-lab-series-june-5-12-17-24-and-july-8-1333738?sourceTypeId=Website
SUMMARY:UNA - The Ledger Lab Series = Course 5\, To Catch a Fraud: A Cautio
 nary Tale
END:VEVENT
END:VCALENDAR
