BEGIN:VCALENDAR
VERSION:2.0
PRODID:-//caputah.org//NONSGML kigkonsult.se iCalcreator 2.30.10//
CALSCALE:GREGORIAN
METHOD:PUBLISH
UID:3a8ff555-3970-4ea0-8607-61434928a59e
X-WR-CALDESC:Amazon Business Giving is a tool for purchasing and distributi
 ng items to others using digital product vouchers. Account administrators 
 can create a campaign\, pre-fund vouchers\, select recipients\, and create
  a list of items that are eligible for redemption.\n\nYou can use this too
 l to distribute grants\, award scholarships\, equip local clubs and chapte
 rs\, and subsidize beneficiary purchasing.\n\nBusiness Giving simplifies t
 he process of giving and allows administrators to maintain control over it
 em selection and spend\, while reducing administrative burden.\n\nJoin Ama
 zon Business\, an NCAP Endorsed Vendor\, to learn more!
X-WR-RELCALID:ddad3ff133d58d17b94389e3fd8c81a6
X-WR-TIMEZONE:America/Denver
BEGIN:VTIMEZONE
TZID:America/Denver
BEGIN:STANDARD
TZNAME:MST
DTSTART:20241103T020000
TZOFFSETFROM:-0600
TZOFFSETTO:-0700
RDATE:20251102T020000
RDATE:20261101T020000
END:STANDARD
BEGIN:DAYLIGHT
TZNAME:MDT
DTSTART:20250309T020000
TZOFFSETFROM:-0700
TZOFFSETTO:-0600
RDATE:20260308T020000
END:DAYLIGHT
END:VTIMEZONE
BEGIN:VEVENT
UID:f087aa84-5e1f-45fa-aaae-687c1e03b707
DTSTAMP:20260422T152116Z
DESCRIPTION:Amazon Business Giving is a tool for purchasing and distributin
 g items to others using digital product vouchers. Account administrators c
 an create a campaign\, pre-fund vouchers\, select recipients\, and create 
 a list of items that are eligible for redemption.\n\nYou can use this tool
  to distribute grants\, award scholarships\, equip local clubs and chapter
 s\, and subsidize beneficiary purchasing.\n\nBusiness Giving simplifies th
 e process of giving and allows administrators to maintain control over ite
 m selection and spend\, while reducing administrative burden.\n\nJoin Amaz
 on Business\, an NCAP Endorsed Vendor\, to learn more!
DTSTART;TZID=America/Denver:20250709T120000
DTEND;TZID=America/Denver:20250709T130000
LOCATION:https://communityactionpartnership.com/event/amazon-business-givin
 g-award-grants-recognize-staff-and-more/
SUMMARY:NCAP - Amazon Business Giving: Award Grants\, Recognize Staff\, and
  More!
END:VEVENT
END:VCALENDAR
