BEGIN:VCALENDAR
VERSION:2.0
PRODID:-//caputah.org//NONSGML kigkonsult.se iCalcreator 2.30.10//
CALSCALE:GREGORIAN
METHOD:PUBLISH
UID:eeb669f1-8124-4f74-9707-eff36ffb1472
X-WR-CALDESC:Catch up with friends (and make new ones!) while celebrating t
 he Utah Nonprofit Community and 35 years of UNA working hard for YOU! \n\n
 We will be providing light refreshments for attendees. Join us for part of
  it or all of it.  Please register in advance and remember to bring your b
 usiness cards!\n\nWhy Attend?  \n\nGet connected\, receive expert training
 \, meet new people\, and/or reconnect with those you have not seen in a wh
 ile. \n\nWho Should Attend?  \n\nThis event is for nonprofit professionals
  and UNA business affiliate members\n\nWhat to Expect:\n3:00 PM - 3:30 PM:
  Arrival and Registration\n3:30 PM - 4:30 PM: Collaboration Discussion Cir
 cles\n4:30 PM - 6:00 PM: Networking Reception\n\nCost:\n\nFREE for everyon
 e
X-WR-RELCALID:aaff95c59b44ba6076b855a9dbb25cd7
X-WR-TIMEZONE:America/Denver
BEGIN:VTIMEZONE
TZID:America/Denver
BEGIN:STANDARD
TZNAME:MST
DTSTART:20241103T020000
TZOFFSETFROM:-0600
TZOFFSETTO:-0700
RDATE:20251102T020000
RDATE:20261101T020000
END:STANDARD
BEGIN:DAYLIGHT
TZNAME:MDT
DTSTART:20250309T020000
TZOFFSETFROM:-0700
TZOFFSETTO:-0600
RDATE:20260308T020000
END:DAYLIGHT
END:VTIMEZONE
BEGIN:VEVENT
UID:4fb89e0f-615d-4d2a-95d5-e97b22753da2
DTSTAMP:20260422T151610Z
DESCRIPTION:Catch up with friends (and make new ones!) while celebrating th
 e Utah Nonprofit Community and 35 years of UNA working hard for YOU! \n\nW
 e will be providing light refreshments for attendees. Join us for part of 
 it or all of it.  Please register in advance and remember to bring your bu
 siness cards!\n\nWhy Attend?  \n\nGet connected\, receive expert training\
 , meet new people\, and/or reconnect with those you have not seen in a whi
 le. \n\nWho Should Attend?  \n\nThis event is for nonprofit professionals 
 and UNA business affiliate members\n\nWhat to Expect:\n3:00 PM - 3:30 PM: 
 Arrival and Registration\n3:30 PM - 4:30 PM: Collaboration Discussion Circ
 les\n4:30 PM - 6:00 PM: Networking Reception\n\nCost:\n\nFREE for everyone
DTSTART;TZID=America/Denver:20250710T150000
DTEND;TZID=America/Denver:20250710T180000
LOCATION:INDUSTRY SLC\, 650 S 500 W\, Salt Lake City\, UT 84105 US
SUMMARY:UNA - 35th Anniversary Nonprofit Reception
END:VEVENT
END:VCALENDAR
