BEGIN:VCALENDAR
VERSION:2.0
PRODID:-//caputah.org//NONSGML kigkonsult.se iCalcreator 2.30.10//
CALSCALE:GREGORIAN
METHOD:PUBLISH
UID:f34f4d97-201e-44f5-9351-2ab080160571
X-WR-CALDESC:Mark your calendars for July 16-18\, 2025 and join us at Embas
 sy Suites by Hilton in Loveland\, Colorado for the 2025 Colorado - Region 
 8 Community Action Conference! This year's conference theme is Stronger To
 gether: Advancing Community Action\, where the focus will be on working co
 llaboratively to address community transformation\, how to leverage resour
 ces to maximize impact\, and long-term success in increasing economic inde
 pendence of hard-working constituents. Join attendees from across Region 8
  including Colorado\, Utah\, Wyoming\, Montana\, North and South Dakota as
  we engage policy makers\, government employees\, social service agencies\
 , nonprofits\, volunteers\, and constituents in intensive learning\, train
 ing\, planning\, and peer-to-peer networking around economic development a
 nd innovative solutions to help people move into the middle class.  \nA va
 riety of events\, workshops\, speakers\, sponsors\, and exhibitors will ma
 ke this year's conference a must attend event for local governments\, nonp
 rofits\, faith-based and community-based organization passionate about ser
 ving their local communities.\n
X-WR-RELCALID:e2533c65d8286c6605547dd7823f7cfe
X-WR-TIMEZONE:America/Denver
BEGIN:VTIMEZONE
TZID:America/Denver
BEGIN:STANDARD
TZNAME:MST
DTSTART:20241103T020000
TZOFFSETFROM:-0600
TZOFFSETTO:-0700
RDATE:20251102T020000
RDATE:20261101T020000
END:STANDARD
BEGIN:DAYLIGHT
TZNAME:MDT
DTSTART:20250309T020000
TZOFFSETFROM:-0700
TZOFFSETTO:-0600
RDATE:20260308T020000
END:DAYLIGHT
END:VTIMEZONE
BEGIN:VEVENT
UID:c1d3172f-8602-4a31-b6ba-fac906bd3911
DTSTAMP:20260422T170257Z
DESCRIPTION:Mark your calendars for July 16-18\, 2025 and join us at Embass
 y Suites by Hilton in Loveland\, Colorado for the 2025 Colorado - Region 8
  Community Action Conference! This year's conference theme is Stronger Tog
 ether: Advancing Community Action\, where the focus will be on working col
 laboratively to address community transformation\, how to leverage resourc
 es to maximize impact\, and long-term success in increasing economic indep
 endence of hard-working constituents. Join attendees from across Region 8 
 including Colorado\, Utah\, Wyoming\, Montana\, North and South Dakota as 
 we engage policy makers\, government employees\, social service agencies\,
  nonprofits\, volunteers\, and constituents in intensive learning\, traini
 ng\, planning\, and peer-to-peer networking around economic development an
 d innovative solutions to help people move into the middle class.  \nA var
 iety of events\, workshops\, speakers\, sponsors\, and exhibitors will mak
 e this year's conference a must attend event for local governments\, nonpr
 ofits\, faith-based and community-based organization passionate about serv
 ing their local communities.\n
DTSTART;TZID=America/Denver:20250715T040000
DTEND;TZID=America/Denver:20250718T040001
LOCATION:Embassy Suites by Hilton Loveland Conference Center\, 4705 Clydesd
 ale Parkway\, Loveland\, CO 80538 US
SUMMARY:REGION 8 - 2025 Colorado - Region 8 Community Action Conference
END:VEVENT
END:VCALENDAR
