BEGIN:VCALENDAR
VERSION:2.0
PRODID:-//caputah.org//NONSGML kigkonsult.se iCalcreator 2.30.10//
CALSCALE:GREGORIAN
METHOD:PUBLISH
UID:42473af7-aca5-4cb3-987a-bf2397453a6a
X-WR-CALDESC:A Two-Part Webinar Series\n\nThis webinar series will highligh
 t Community Action Agencies who are leveraging strategic partnerships to a
 dvance innovative economic mobility initiatives. Participants will have th
 e opportunity to gain insights from the experiences of other Community Act
 ion leaders who have bult and sustained trusted working relationships with
  cross-sector partners in the areas of Workforce Development\, and Communi
 ty-Asset Building. Through intentionality and collaboration\, Community Ac
 tion Agencies can coordinate and enhance services to improve outcomes for 
 individuals and families.\n\nPart 1: June 18\, 2025\nPart 2: July 16\, 202
 5\nDate & Time\nJun 18\, 2025 12:00 PM\nJul 16\, 2025 12:00 PM
X-WR-RELCALID:a3c638f9db8b32f558876105d97c51db
X-WR-TIMEZONE:America/Denver
BEGIN:VTIMEZONE
TZID:America/Denver
BEGIN:STANDARD
TZNAME:MST
DTSTART:20241103T020000
TZOFFSETFROM:-0600
TZOFFSETTO:-0700
RDATE:20251102T020000
RDATE:20261101T020000
END:STANDARD
BEGIN:DAYLIGHT
TZNAME:MDT
DTSTART:20250309T020000
TZOFFSETFROM:-0700
TZOFFSETTO:-0600
RDATE:20260308T020000
END:DAYLIGHT
END:VTIMEZONE
BEGIN:VEVENT
UID:6f28705c-7553-4a07-800d-c9049ff4b8e0
DTSTAMP:20260422T151905Z
DESCRIPTION:A Two-Part Webinar Series\n\nThis webinar series will highlight
  Community Action Agencies who are leveraging strategic partnerships to ad
 vance innovative economic mobility initiatives. Participants will have the
  opportunity to gain insights from the experiences of other Community Acti
 on leaders who have bult and sustained trusted working relationships with 
 cross-sector partners in the areas of Workforce Development\, and Communit
 y-Asset Building. Through intentionality and collaboration\, Community Act
 ion Agencies can coordinate and enhance services to improve outcomes for i
 ndividuals and families.\n\nPart 1: June 18\, 2025\nPart 2: July 16\, 2025
 \nDate & Time\nJun 18\, 2025 12:00 PM\nJul 16\, 2025 12:00 PM
DTSTART;TZID=America/Denver:20250716T120000
DTEND;TZID=America/Denver:20250716T130000
LOCATION:https://communityactionpartnership.zoom.us/webinar/register/WN_j47
 E0pNHQwynHBr_-TzI2A?_x_zm_rtaid=SOMKKhszTTatBNVIKP-4CQ.1742241608089.8c9db
 41152aebf552f9a53c0a0c7e4a7&_x_zm_rhtaid=426#/registration
SUMMARY:NCAP - Building and Sustaining Strategic Partnerships Part 2
END:VEVENT
END:VCALENDAR
