BEGIN:VCALENDAR
VERSION:2.0
PRODID:-//caputah.org//NONSGML kigkonsult.se iCalcreator 2.30.10//
CALSCALE:GREGORIAN
METHOD:PUBLISH
UID:aedc5761-e6fb-4dce-bde7-de60553f932d
X-WR-CALDESC:The buildings your nonprofit rents or leases provide a welcomi
 ng space for your staff\, volunteers and clients. But without care and att
 ention\, liabilities and maintenance issues can flourish. Learn how to mit
 igate common property risks.
X-WR-RELCALID:fb120788487d3dfafc3a2ded2635e0b3
X-WR-TIMEZONE:America/Denver
BEGIN:VTIMEZONE
TZID:America/Denver
BEGIN:STANDARD
TZNAME:MST
DTSTART:20241103T020000
TZOFFSETFROM:-0600
TZOFFSETTO:-0700
RDATE:20251102T020000
RDATE:20261101T020000
END:STANDARD
BEGIN:DAYLIGHT
TZNAME:MDT
DTSTART:20250309T020000
TZOFFSETFROM:-0700
TZOFFSETTO:-0600
RDATE:20260308T020000
END:DAYLIGHT
END:VTIMEZONE
BEGIN:VEVENT
UID:a77ddffe-a292-4b9f-b5f3-142180acd91f
DTSTAMP:20260422T151602Z
DESCRIPTION:The buildings your nonprofit rents or leases provide a welcomin
 g space for your staff\, volunteers and clients. But without care and atte
 ntion\, liabilities and maintenance issues can flourish. Learn how to miti
 gate common property risks.
DTSTART;TZID=America/Denver:20250716T120000
DTEND;TZID=America/Denver:20250716T130000
LOCATION:https://us02web.zoom.us/webinar/register/WN_T4ZZlBU5RTOUxh0GN_gOOw
 #/registration
SUMMARY:NRMC - Facilities Management: Protect Your Property
END:VEVENT
END:VCALENDAR
