BEGIN:VCALENDAR
VERSION:2.0
PRODID:-//caputah.org//NONSGML kigkonsult.se iCalcreator 2.30.10//
CALSCALE:GREGORIAN
METHOD:PUBLISH
UID:6c6bddbe-2c8a-4a0f-8e14-d1ea0c89ee24
X-WR-CALDESC:Transparency and accountability aren’t just buzzwords—they’re 
 the bedrock of trust for your nonprofit. And with the IRS stepping up audi
 ts for 501(c) organizations\, staying on top of your game isn’t optional.
 \n\nThat’s where the Nonprofit Credential in Finance and Legal comes in. T
 hink of it as your cheat sheet for compliance\, donor trust\, and funder e
 xpectations.\n\nYou’ll learn to:\n\nKnow your legal must-dos as a nonprofi
 t.\nProtect info\, honor intent\, and send those perfect tax receipts.\nSh
 ow off sound practices with spotless documentation and timely reports.\nMa
 ster tools and retention strategies for smooth sailing.\nCompliance? Check
 . Trust? Locked in. Your organization? Ready for success that lasts.\n\nUp
 on completion\, your organization will earn the UNA Finance and Legal Badg
 e\, a mark of excellence to share with your network and show the world you
 ’re serious about making an impact.\n\nNote: The Nonprofit Credential prog
 ram is for 501(c) organizations only. \n\nCost\nUNA Members: $180 for the 
 first person/$40 for each additional participant\nNot-Yet Members: $360 fo
 r the first person/$80 for each additional participant\n\nCourse Dates\nOn
 line Training Sessions\n\nDay 1: Wednesday July 16\, 2025 | 9:30 AM to 3:3
 0 PM\nDay 2: Thursday\, July 17\, 2025 | 9:30 AM to 3:30 PM \nOrganization
 al Consultation\n20-minute consult on Wednesday\, August 27\, 2025 or Thur
 sday\, August 28\, 2025
X-WR-RELCALID:bb7a770143014b3ec1046d0cdd5560f6
X-WR-TIMEZONE:America/Denver
BEGIN:VTIMEZONE
TZID:America/Denver
BEGIN:STANDARD
TZNAME:MST
DTSTART:20241103T020000
TZOFFSETFROM:-0600
TZOFFSETTO:-0700
RDATE:20251102T020000
RDATE:20261101T020000
END:STANDARD
BEGIN:DAYLIGHT
TZNAME:MDT
DTSTART:20250309T020000
TZOFFSETFROM:-0700
TZOFFSETTO:-0600
RDATE:20260308T020000
END:DAYLIGHT
END:VTIMEZONE
BEGIN:VEVENT
UID:693eca07-dd56-47e6-b385-ad5f600222d7
DTSTAMP:20260422T152229Z
DESCRIPTION:Transparency and accountability aren’t just buzzwords—they’re t
 he bedrock of trust for your nonprofit. And with the IRS stepping up audit
 s for 501(c) organizations\, staying on top of your game isn’t optional.\n
 \nThat’s where the Nonprofit Credential in Finance and Legal comes in. Thi
 nk of it as your cheat sheet for compliance\, donor trust\, and funder exp
 ectations.\n\nYou’ll learn to:\n\nKnow your legal must-dos as a nonprofit.
 \nProtect info\, honor intent\, and send those perfect tax receipts.\nShow
  off sound practices with spotless documentation and timely reports.\nMast
 er tools and retention strategies for smooth sailing.\nCompliance? Check. 
 Trust? Locked in. Your organization? Ready for success that lasts.\n\nUpon
  completion\, your organization will earn the UNA Finance and Legal Badge\
 , a mark of excellence to share with your network and show the world you’r
 e serious about making an impact.\n\nNote: The Nonprofit Credential progra
 m is for 501(c) organizations only. \n\nCost\nUNA Members: $180 for the fi
 rst person/$40 for each additional participant\nNot-Yet Members: $360 for 
 the first person/$80 for each additional participant\n\nCourse Dates\nOnli
 ne Training Sessions\n\nDay 1: Wednesday July 16\, 2025 | 9:30 AM to 3:30 
 PM\nDay 2: Thursday\, July 17\, 2025 | 9:30 AM to 3:30 PM \nOrganizational
  Consultation\n20-minute consult on Wednesday\, August 27\, 2025 or Thursd
 ay\, August 28\, 2025
DTSTART;TZID=America/Denver:20250716T040000
DTEND;TZID=America/Denver:20250717T040001
LOCATION:https://members.utahnonprofits.org/una-event-calendar/Details/2025
 -nonprofit-credential-in-finance-and-legal-1275709?sourceTypeId=Website
SUMMARY:UNA - 2025 Nonprofit Credential in Finance and Legal
END:VEVENT
END:VCALENDAR
