BEGIN:VCALENDAR
VERSION:2.0
PRODID:-//caputah.org//NONSGML kigkonsult.se iCalcreator 2.30.10//
CALSCALE:GREGORIAN
METHOD:PUBLISH
UID:722fd1f6-7f93-465b-8b2b-5acd41059cee
X-WR-CALDESC:Join us at Stronger to Serve 2025 for fresh insights and new w
 ays to tackle trends\, updates and whatever’s on your horizon.\nHow can I 
 stay up to date on changing regulations?\n\nHow can I better attract and r
 etain talent?\n\nHow can I create efficiencies that allow us to better ser
 ve our communities?\n\nThis is the one conference that addresses your most
  challenging questions and delivers practical and actionable solutions you
  can take back to your agency.
X-WR-RELCALID:a91b80dc15f85ac76272066f8d574479
X-WR-TIMEZONE:America/Denver
BEGIN:VTIMEZONE
TZID:America/Denver
BEGIN:STANDARD
TZNAME:MST
DTSTART:20241103T020000
TZOFFSETFROM:-0600
TZOFFSETTO:-0700
RDATE:20251102T020000
RDATE:20261101T020000
END:STANDARD
BEGIN:DAYLIGHT
TZNAME:MDT
DTSTART:20250309T020000
TZOFFSETFROM:-0700
TZOFFSETTO:-0600
RDATE:20260308T020000
END:DAYLIGHT
END:VTIMEZONE
BEGIN:VEVENT
UID:7405546a-c775-4895-86b4-65865e766618
DTSTAMP:20260422T151815Z
DESCRIPTION:Join us at Stronger to Serve 2025 for fresh insights and new wa
 ys to tackle trends\, updates and whatever’s on your horizon.\nHow can I s
 tay up to date on changing regulations?\n\nHow can I better attract and re
 tain talent?\n\nHow can I create efficiencies that allow us to better serv
 e our communities?\n\nThis is the one conference that addresses your most 
 challenging questions and delivers practical and actionable solutions you 
 can take back to your agency.
DTSTART;TZID=America/Denver:20250714T040000
DTEND;TZID=America/Denver:20250718T040001
LOCATION:Caesars Palace\, 3570 South Las Vegas Blvd\, Las Vegas\, NV 89109 
 US
SUMMARY:WIPFLI - Stronger to Serve 2025
END:VEVENT
END:VCALENDAR
