BEGIN:VCALENDAR
VERSION:2.0
PRODID:-//caputah.org//NONSGML kigkonsult.se iCalcreator 2.30.10//
CALSCALE:GREGORIAN
METHOD:PUBLISH
UID:dc261c51-adbc-40ff-948f-7362a73823ec
X-WR-CALDESC:This session will include up-to-date talking points and legisl
 ative updates as well as a media training refresher before Congress is hom
 e for the month of August. \n\nPlease add any questions you have to the re
 gistration form below in advance of the session.
X-WR-RELCALID:1f4b1e9abd1ada85d2c5e896c106aa41
X-WR-TIMEZONE:America/Denver
BEGIN:VTIMEZONE
TZID:America/Denver
BEGIN:STANDARD
TZNAME:MST
DTSTART:20241103T020000
TZOFFSETFROM:-0600
TZOFFSETTO:-0700
RDATE:20251102T020000
RDATE:20261101T020000
END:STANDARD
BEGIN:DAYLIGHT
TZNAME:MDT
DTSTART:20250309T020000
TZOFFSETFROM:-0700
TZOFFSETTO:-0600
RDATE:20260308T020000
END:DAYLIGHT
END:VTIMEZONE
BEGIN:VEVENT
UID:652e91bd-d75b-4e8c-92ea-93da2ec52fee
DTSTAMP:20260422T151430Z
DESCRIPTION:This session will include up-to-date talking points and legisla
 tive updates as well as a media training refresher before Congress is home
  for the month of August. \n\nPlease add any questions you have to the reg
 istration form below in advance of the session.
DTSTART;TZID=America/Denver:20250724T110000
DTEND;TZID=America/Denver:20250724T120000
LOCATION:https://us02web.zoom.us/webinar/register/WN_OEB_sPtZSxeHi35b5Q20TQ
 #/registration
SUMMARY:NCAF - Pre-August Follow Up
END:VEVENT
END:VCALENDAR
