BEGIN:VCALENDAR
VERSION:2.0
PRODID:-//caputah.org//NONSGML kigkonsult.se iCalcreator 2.30.10//
CALSCALE:GREGORIAN
METHOD:PUBLISH
UID:043a3e70-7f47-459b-a640-dcbc0097743c
X-WR-CALDESC:\nJoin Community Action National Partners for a discussion of 
 the U.S. Department of Health and Human Services’ (HHS’) recent notice\, w
 hich rescinds long-standing guidance interpreting the Personal Responsibil
 ity and Work Opportunity Reconciliation Act of 1996 (PRWORA). The prior gu
 idance had established an interpretation of PRWORA that addressed when and
  which immigrants could receive services and benefits funded with federal 
 HHS grant dollars.\n\nDuring this webinar\, we will provide a brief overvi
 ew of the policy changes\, break down the legal framework behind the new n
 otice\, and discuss the possible\, practical implications for the Communit
 y Action Network. We also want to hear from you about what questions you h
 ave and\, in particular\, how these changes will impact your communities.
X-WR-RELCALID:3467eb3fe89ed8df1720c67cc744e898
X-WR-TIMEZONE:America/Denver
BEGIN:VTIMEZONE
TZID:America/Denver
BEGIN:STANDARD
TZNAME:MST
DTSTART:20241103T020000
TZOFFSETFROM:-0600
TZOFFSETTO:-0700
RDATE:20251102T020000
RDATE:20261101T020000
END:STANDARD
BEGIN:DAYLIGHT
TZNAME:MDT
DTSTART:20250309T020000
TZOFFSETFROM:-0700
TZOFFSETTO:-0600
RDATE:20260308T020000
END:DAYLIGHT
END:VTIMEZONE
BEGIN:VEVENT
UID:cfc19323-9fd8-41a7-890f-256fc36b7c87
DTSTAMP:20260422T152229Z
DESCRIPTION:\nJoin Community Action National Partners for a discussion of t
 he U.S. Department of Health and Human Services’ (HHS’) recent notice\, wh
 ich rescinds long-standing guidance interpreting the Personal Responsibili
 ty and Work Opportunity Reconciliation Act of 1996 (PRWORA). The prior gui
 dance had established an interpretation of PRWORA that addressed when and 
 which immigrants could receive services and benefits funded with federal H
 HS grant dollars.\n\nDuring this webinar\, we will provide a brief overvie
 w of the policy changes\, break down the legal framework behind the new no
 tice\, and discuss the possible\, practical implications for the Community
  Action Network. We also want to hear from you about what questions you ha
 ve and\, in particular\, how these changes will impact your communities.
DTSTART;TZID=America/Denver:20250728T113000
DTEND;TZID=America/Denver:20250728T123000
LOCATION:https://communityactionpartnership.zoom.us/webinar/register/WN_0qq
 wt99hRPuK9Lc0nQOJMg?_ics=1752859933040&irclickid=~bdb85-be9ed9~5W245-f8Z0R
 IKNOQOMHFDHABqrmg982SRPMEzwm&_gl=1*1tr56e5*_gcl_au*MTE5NDY4ODkyNi4xNzUwMjc
 0MzMz*_ga*MjA5NDkxNzE1MC4xNzUwNzc1OTU0*_g
SUMMARY:NCAP - HHS Rescinds Key Guidance: What It Could Mean for Community 
 Action and Federal Benefits
END:VEVENT
END:VCALENDAR
