BEGIN:VCALENDAR
VERSION:2.0
PRODID:-//caputah.org//NONSGML kigkonsult.se iCalcreator 2.30.10//
CALSCALE:GREGORIAN
METHOD:PUBLISH
UID:6d167f7b-e561-4cd6-b7e4-8d8612c555ad
X-WR-CALDESC:Is your nonprofit facing tough decisions about the future? You
 're not alone. Funding is tighter than ever\, and many organizations are a
 t a crossroads—unsure whether to merge\, wind down\, or fight to stay aflo
 at. \n\nJoin UNA for a timely and practical one-hour session with Jason Kr
 ause\, acting chair of the UNA Board and a seasoned nonprofit governance a
 ttorney\, as we explore critical pathways available to nonprofits in chall
 enging times. Jason will share real-world case examples\, actionable insig
 hts you can bring back to your board\, as well as offer thoughtful answers
  to the questions many leaders are asking right now.\n\nWhether you’re pro
 actively planning for the future or responding to mounting pressures\, thi
 s session offers clarity and direction. This isn’t just a legal lecture—it
 ’s a lifeline for nonprofit leaders making some of the toughest calls of t
 heir careers.\n\nWhat You’ll Learn: \n\nMergers & Consolidations: \nUnders
 tand when a merger makes sense \nLegal and logistical steps in the process
  \nCommon pitfalls and how to avoid them \nWhat to do if a merger falls th
 rough \nDissolution & Liquidation \nHow to responsibly and legally dissolv
 e a nonprofit \nWhat happens to assets and liabilities \nSteps to protect 
 your board and stakeholders \nStrategic Planning for Survival or Closure 
 \nHow to assess your organization’s viability \nTools for contingency plan
 ning \nWays to keep your mission alive through creative partnerships or re
 structuring \nWhen: July 29\, 2025 | 11:30-12:30 PM MT (This session will 
 be recorded and a copy of the recording will be available to all registere
 d guests)\n\nWho Should Attend: Executive directors\, board members\, nonp
 rofit decision-makers\n\nCost:\nUNA Members: $25.00\nNot-Yet Members: $50.
 00
X-WR-RELCALID:0534c7036d44c264eb49082b7b47d543
X-WR-TIMEZONE:America/Denver
BEGIN:VTIMEZONE
TZID:America/Denver
BEGIN:STANDARD
TZNAME:MST
DTSTART:20241103T020000
TZOFFSETFROM:-0600
TZOFFSETTO:-0700
RDATE:20251102T020000
RDATE:20261101T020000
END:STANDARD
BEGIN:DAYLIGHT
TZNAME:MDT
DTSTART:20250309T020000
TZOFFSETFROM:-0700
TZOFFSETTO:-0600
RDATE:20260308T020000
END:DAYLIGHT
END:VTIMEZONE
BEGIN:VEVENT
UID:422f0a79-2145-4faa-ac34-85127e3c3e31
DTSTAMP:20260422T164012Z
DESCRIPTION:Is your nonprofit facing tough decisions about the future? You'
 re not alone. Funding is tighter than ever\, and many organizations are at
  a crossroads—unsure whether to merge\, wind down\, or fight to stay afloa
 t. \n\nJoin UNA for a timely and practical one-hour session with Jason Kra
 use\, acting chair of the UNA Board and a seasoned nonprofit governance at
 torney\, as we explore critical pathways available to nonprofits in challe
 nging times. Jason will share real-world case examples\, actionable insigh
 ts you can bring back to your board\, as well as offer thoughtful answers 
 to the questions many leaders are asking right now.\n\nWhether you’re proa
 ctively planning for the future or responding to mounting pressures\, this
  session offers clarity and direction. This isn’t just a legal lecture—it’
 s a lifeline for nonprofit leaders making some of the toughest calls of th
 eir careers.\n\nWhat You’ll Learn: \n\nMergers & Consolidations: \nUnderst
 and when a merger makes sense \nLegal and logistical steps in the process 
 \nCommon pitfalls and how to avoid them \nWhat to do if a merger falls thr
 ough \nDissolution & Liquidation \nHow to responsibly and legally dissolve
  a nonprofit \nWhat happens to assets and liabilities \nSteps to protect y
 our board and stakeholders \nStrategic Planning for Survival or Closure \n
 How to assess your organization’s viability \nTools for contingency planni
 ng \nWays to keep your mission alive through creative partnerships or rest
 ructuring \nWhen: July 29\, 2025 | 11:30-12:30 PM MT (This session will be
  recorded and a copy of the recording will be available to all registered 
 guests)\n\nWho Should Attend: Executive directors\, board members\, nonpro
 fit decision-makers\n\nCost:\nUNA Members: $25.00\nNot-Yet Members: $50.00
DTSTART;TZID=America/Denver:20250729T113000
DTEND;TZID=America/Denver:20250729T123000
LOCATION:https://members.utahnonprofits.org/una-event-calendar/Details/navi
 gating-nonprofit-crossroads-mergers-dissolutions-strategic-decisions-14282
 77?sourceTypeId=Website
SUMMARY:UNA - Navigating Nonprofit Crossroads: Mergers\, Dissolutions & Str
 ategic Decisions
END:VEVENT
END:VCALENDAR
