BEGIN:VCALENDAR
VERSION:2.0
PRODID:-//caputah.org//NONSGML kigkonsult.se iCalcreator 2.30.10//
CALSCALE:GREGORIAN
METHOD:PUBLISH
UID:060e6750-6f31-4c05-974b-3cb34b951fe5
X-WR-CALDESC:This coffee chat provides an opportunity to discuss the curren
 t status of a wide variety of programs that CAAs administer. Please make s
 ure to indicate any program you are hoping to hear about as part of your r
 egistration.\n\nAll registration will be manually approved starting Monday
  July 21st. Due to high demand\, we must prioritize the registrations of C
 ommunity Action Agencies and their state associations.
X-WR-RELCALID:ecb84be3fbd0552e3ef6dd301dabba82
X-WR-TIMEZONE:America/Denver
BEGIN:VTIMEZONE
TZID:America/Denver
BEGIN:STANDARD
TZNAME:MST
DTSTART:20241103T020000
TZOFFSETFROM:-0600
TZOFFSETTO:-0700
RDATE:20251102T020000
RDATE:20261101T020000
END:STANDARD
BEGIN:DAYLIGHT
TZNAME:MDT
DTSTART:20250309T020000
TZOFFSETFROM:-0700
TZOFFSETTO:-0600
RDATE:20260308T020000
END:DAYLIGHT
END:VTIMEZONE
BEGIN:VEVENT
UID:ef4677f6-7a38-43f5-bef4-0b5f013a3184
DTSTAMP:20260422T151917Z
DESCRIPTION:This coffee chat provides an opportunity to discuss the current
  status of a wide variety of programs that CAAs administer. Please make su
 re to indicate any program you are hoping to hear about as part of your re
 gistration.\n\nAll registration will be manually approved starting Monday 
 July 21st. Due to high demand\, we must prioritize the registrations of Co
 mmunity Action Agencies and their state associations.
DTSTART;TZID=America/Denver:20250731T123000
DTEND;TZID=America/Denver:20250731T133000
LOCATION:https://us02web.zoom.us/webinar/register/WN_xEXUJN_7QOiDcu6DRtPcnQ
 #/registration
SUMMARY:NCAF - Bonus July 2025 Coffee Chat with David Bradley
END:VEVENT
END:VCALENDAR
