BEGIN:VCALENDAR
VERSION:2.0
PRODID:-//caputah.org//NONSGML kigkonsult.se iCalcreator 2.30.10//
CALSCALE:GREGORIAN
METHOD:PUBLISH
UID:cc636e82-bd29-4723-9b2d-082127d9a759
X-WR-CALDESC:Deepening our understanding of the complexities of power and w
 orkplace patterns. Learn a new approach to recognizing our generationally 
 specific differences\, explore our own individual relationships to our age
 s at work\, and go through multiple ways of noticing and navigating power.
 \n\nLearning Outcomes\n\nBetter understand the ways power impacts collabor
 ation\, communication\, and conflict\nCultivate self-awareness and adaptab
 ility around age and generational experience\nIncrease capacity to bridge 
 cultural differences increasing productive communication and constructive 
 problem-solving\nDeepen the ability to intentionally leverage a greater di
 versity of perspectives\n\nCost:\nUNA Members: $50 (Using the discount cod
 e found in the Info Hub under Partner Training Discount Codes)\nNot-Yet-Me
 mbers: $70\n\nEvent Details\nThis event is hosted in partnership with Minn
 esota Council of Nonprofits. This virtual event will take place on the Zoo
 m platform. Your access link will be emailed to you the day before the eve
 nt after 12 p.m.\n\nThis session will be recorded. The recording will be m
 ade available to registrants after the live event.
X-WR-RELCALID:e5adb2a6fd55f121ab44d471285d40e1
X-WR-TIMEZONE:America/Denver
BEGIN:VTIMEZONE
TZID:America/Denver
BEGIN:STANDARD
TZNAME:MST
DTSTART:20241103T020000
TZOFFSETFROM:-0600
TZOFFSETTO:-0700
RDATE:20251102T020000
RDATE:20261101T020000
END:STANDARD
BEGIN:DAYLIGHT
TZNAME:MDT
DTSTART:20250309T020000
TZOFFSETFROM:-0700
TZOFFSETTO:-0600
RDATE:20260308T020000
END:DAYLIGHT
END:VTIMEZONE
BEGIN:VEVENT
UID:38c5f06c-907b-4f56-b647-d1e7d7034f6a
DTSTAMP:20260422T151430Z
DESCRIPTION:Deepening our understanding of the complexities of power and wo
 rkplace patterns. Learn a new approach to recognizing our generationally s
 pecific differences\, explore our own individual relationships to our ages
  at work\, and go through multiple ways of noticing and navigating power.
 \n\nLearning Outcomes\n\nBetter understand the ways power impacts collabor
 ation\, communication\, and conflict\nCultivate self-awareness and adaptab
 ility around age and generational experience\nIncrease capacity to bridge 
 cultural differences increasing productive communication and constructive 
 problem-solving\nDeepen the ability to intentionally leverage a greater di
 versity of perspectives\n\nCost:\nUNA Members: $50 (Using the discount cod
 e found in the Info Hub under Partner Training Discount Codes)\nNot-Yet-Me
 mbers: $70\n\nEvent Details\nThis event is hosted in partnership with Minn
 esota Council of Nonprofits. This virtual event will take place on the Zoo
 m platform. Your access link will be emailed to you the day before the eve
 nt after 12 p.m.\n\nThis session will be recorded. The recording will be m
 ade available to registrants after the live event.
DTSTART;TZID=America/Denver:20250731T090000
DTEND;TZID=America/Denver:20250731T110000
LOCATION:https://members.utahnonprofits.org/una-event-calendar/Details/brid
 ging-gaps-skillfully-managing-uncertainty-and-intergenerational-influence-
 at-work-1434869?sourceTypeId=Website
SUMMARY:UNA - Bridging Gaps: Skillfully Managing Uncertainty and Intergener
 ational Influence at Work
END:VEVENT
END:VCALENDAR
