BEGIN:VCALENDAR
VERSION:2.0
PRODID:-//caputah.org//NONSGML kigkonsult.se iCalcreator 2.30.10//
CALSCALE:GREGORIAN
METHOD:PUBLISH
UID:15f65cac-c3c0-4bff-a1d9-e1277328e66b
X-WR-CALDESC:Fundraising is the engine that powers your cause and can't be 
 left to chance. With so many competing priorities\, it’s easy for your str
 ategy to slip through the cracks. Join us to take a macro look at your fun
 draising program to uncover what’s working and zero in on the most impactf
 ul\, actionable strategies and opportunities. \n\nAre you...\n\nStruggling
  to build or see what's next for your fundraising program?\nUnclear on wha
 t's working and where you can improve in your fundraising?\nOverwhelmed by
  where to focus your fundraising efforts?\nIf this is resonating with you\
 , join us! We'll use a specially developed fundraising matrix to systemati
 cally identify your program's fundraising strengths and weaknesses\, and c
 reate an action plan unique to your needs and goals. This course is design
 ed to help you focus on what works and where you can strategically grow yo
 ur program—whether your organization is a start-up or mature nonprofit.\n
 \n\nWhat You Will Learn:\nLearn about the donor cycle and how you can use 
 it to strategically build your fundraising plan.\nZero in on your overall 
 fundraising program or a particular aspect such as the annual fund.\nIdent
 ify how to work smarter\, not harder for the gifts that will sustain and g
 row your nonprofit's effectiveness.\nWho Should Attend:\nNonprofit leaders
  and staff with fundraising duties\, including but not limited to\, execut
 ive directors\, senior management staff\, program directors\, development 
 directors and development staff\, and other key team members at nonprofit 
 organizations.  \n\nWhen: \nThursday\, July 31\, 2025\n1:00 PM-3:00 PM (MT
 )\n(Live training will be recorded and shared with registrants)\n\nCost:\n
 UNA Members: $45\nNot-Yet-Members: $90
X-WR-RELCALID:acfcb59c7b9dc262fc4a9f669bdbfb66
X-WR-TIMEZONE:America/Denver
BEGIN:VTIMEZONE
TZID:America/Denver
BEGIN:STANDARD
TZNAME:MST
DTSTART:20241103T020000
TZOFFSETFROM:-0600
TZOFFSETTO:-0700
RDATE:20251102T020000
RDATE:20261101T020000
END:STANDARD
BEGIN:DAYLIGHT
TZNAME:MDT
DTSTART:20250309T020000
TZOFFSETFROM:-0700
TZOFFSETTO:-0600
RDATE:20260308T020000
END:DAYLIGHT
END:VTIMEZONE
BEGIN:VEVENT
UID:d35b320a-5490-49fb-8818-55e15fe13f4d
DTSTAMP:20260422T152143Z
DESCRIPTION:Fundraising is the engine that powers your cause and can't be l
 eft to chance. With so many competing priorities\, it’s easy for your stra
 tegy to slip through the cracks. Join us to take a macro look at your fund
 raising program to uncover what’s working and zero in on the most impactfu
 l\, actionable strategies and opportunities. \n\nAre you...\n\nStruggling 
 to build or see what's next for your fundraising program?\nUnclear on what
 's working and where you can improve in your fundraising?\nOverwhelmed by 
 where to focus your fundraising efforts?\nIf this is resonating with you\,
  join us! We'll use a specially developed fundraising matrix to systematic
 ally identify your program's fundraising strengths and weaknesses\, and cr
 eate an action plan unique to your needs and goals. This course is designe
 d to help you focus on what works and where you can strategically grow you
 r program—whether your organization is a start-up or mature nonprofit.\n\n
 \nWhat You Will Learn:\nLearn about the donor cycle and how you can use it
  to strategically build your fundraising plan.\nZero in on your overall fu
 ndraising program or a particular aspect such as the annual fund.\nIdentif
 y how to work smarter\, not harder for the gifts that will sustain and gro
 w your nonprofit's effectiveness.\nWho Should Attend:\nNonprofit leaders a
 nd staff with fundraising duties\, including but not limited to\, executiv
 e directors\, senior management staff\, program directors\, development di
 rectors and development staff\, and other key team members at nonprofit or
 ganizations.  \n\nWhen: \nThursday\, July 31\, 2025\n1:00 PM-3:00 PM (MT)
 \n(Live training will be recorded and shared with registrants)\n\nCost:\nU
 NA Members: $45\nNot-Yet-Members: $90
DTSTART;TZID=America/Denver:20250731T130000
DTEND;TZID=America/Denver:20250731T150000
LOCATION:https://members.utahnonprofits.org/ap/Events/Register/7EFxMZGfNCQC
 d
SUMMARY:UNA - Nonprofit Fundraising: Frenetic to Focused
END:VEVENT
END:VCALENDAR
