BEGIN:VCALENDAR
VERSION:2.0
PRODID:-//caputah.org//NONSGML kigkonsult.se iCalcreator 2.30.10//
CALSCALE:GREGORIAN
METHOD:PUBLISH
UID:54a3ce8e-23b3-4f92-9aa0-8cc59693ebd1
X-WR-CALDESC:Managing donation programs can be manual\, time-consuming\, an
 d lacking in visibility. With Donation Driver\, organizations can automate
  the donation process and provide a more seamless donor experience. By con
 necting your organization’s website\, procurement system\, and Amazon Busi
 ness account\, donors can purchase items as gifts and have them shipped di
 rectly to their intended recipients.
X-WR-RELCALID:e99b1024880a7be50a3b82259ac6fa7e
X-WR-TIMEZONE:America/Denver
BEGIN:VTIMEZONE
TZID:America/Denver
BEGIN:STANDARD
TZNAME:MST
DTSTART:20241103T020000
TZOFFSETFROM:-0600
TZOFFSETTO:-0700
RDATE:20251102T020000
RDATE:20261101T020000
END:STANDARD
BEGIN:DAYLIGHT
TZNAME:MDT
DTSTART:20250309T020000
TZOFFSETFROM:-0700
TZOFFSETTO:-0600
RDATE:20260308T020000
END:DAYLIGHT
END:VTIMEZONE
BEGIN:VEVENT
UID:30071f0b-bc81-4a75-bc7e-48a514e86488
DTSTAMP:20260422T133533Z
DESCRIPTION:Managing donation programs can be manual\, time-consuming\, and
  lacking in visibility. With Donation Driver\, organizations can automate 
 the donation process and provide a more seamless donor experience. By conn
 ecting your organization’s website\, procurement system\, and Amazon Busin
 ess account\, donors can purchase items as gifts and have them shipped dir
 ectly to their intended recipients.
DTSTART;TZID=America/Denver:20250806T120000
DTEND;TZID=America/Denver:20250806T130000
LOCATION:https://communityactionpartnership.zoom.us/webinar/register/WN_lTY
 nh1IeTjyDcHekOf24Xw#/registration
SUMMARY:NCAP - Amazon's Donation Driver Solution - an NCAP Endorsed Vendor 
 Webinar
END:VEVENT
END:VCALENDAR
