BEGIN:VCALENDAR
VERSION:2.0
PRODID:-//caputah.org//NONSGML kigkonsult.se iCalcreator 2.30.10//
CALSCALE:GREGORIAN
METHOD:PUBLISH
UID:07dc3255-1985-4a3a-aad7-10637497db87
X-WR-CALDESC:This two-day training session is an opportunity to gain knowle
 dge\, foster connections\, discuss relevant issues\, and receive valuable 
 updates on key housing topics.\n\n🌟Discover the Latest HUD Changes\n\nAtte
 ndees will gain insight on essential updates\, best practices\, and compli
 ance guidance to ensure accurate eligibility determinations and program ad
 ministration.\n\n\n🌟Learn the Latest Financial Requirements that Impact Ho
 using Authorities\n\nThis session will cover recent changes in funding all
 ocations\, budgetary guidance from HUD\, and financial management best pra
 ctices for HCV and Public Housing programs.\n\n\n🌟Protect Your Staff and Y
 our Families\nUnlock proven strategies that provide practical guidance on 
 how to identify potential threats\, respond under pressure\, and protect y
 ourself and others during a critical incident.
X-WR-RELCALID:b05ffc88facf89363541beb60127443c
X-WR-TIMEZONE:America/Denver
BEGIN:VTIMEZONE
TZID:America/Denver
BEGIN:STANDARD
TZNAME:MST
DTSTART:20241103T020000
TZOFFSETFROM:-0600
TZOFFSETTO:-0700
RDATE:20251102T020000
RDATE:20261101T020000
END:STANDARD
BEGIN:DAYLIGHT
TZNAME:MDT
DTSTART:20250309T020000
TZOFFSETFROM:-0700
TZOFFSETTO:-0600
RDATE:20260308T020000
END:DAYLIGHT
END:VTIMEZONE
BEGIN:VEVENT
UID:6b39f95e-1477-42f7-8041-7e649f73c425
DTSTAMP:20260422T152045Z
DESCRIPTION:This two-day training session is an opportunity to gain knowled
 ge\, foster connections\, discuss relevant issues\, and receive valuable u
 pdates on key housing topics.\n\n🌟Discover the Latest HUD Changes\n\nAtten
 dees will gain insight on essential updates\, best practices\, and complia
 nce guidance to ensure accurate eligibility determinations and program adm
 inistration.\n\n\n🌟Learn the Latest Financial Requirements that Impact Hou
 sing Authorities\n\nThis session will cover recent changes in funding allo
 cations\, budgetary guidance from HUD\, and financial management best prac
 tices for HCV and Public Housing programs.\n\n\n🌟Protect Your Staff and Yo
 ur Families\nUnlock proven strategies that provide practical guidance on h
 ow to identify potential threats\, respond under pressure\, and protect yo
 urself and others during a critical incident.
DTSTART;TZID=America/Denver:20250806T040000
DTEND;TZID=America/Denver:20250807T040001
LOCATION:Beach Cove Resort\, 4800 S Ocean Blvd\, North Myrtle Beach\, SC 29
 582 US
SUMMARY:NCAP - SouthEast Regional Section 8 Housing Association's Annual Su
 mmer Conference
END:VEVENT
END:VCALENDAR
