BEGIN:VCALENDAR
VERSION:2.0
PRODID:-//caputah.org//NONSGML kigkonsult.se iCalcreator 2.30.10//
CALSCALE:GREGORIAN
METHOD:PUBLISH
UID:5f635983-8b70-4c1d-910c-1820bf29856b
X-WR-CALDESC:CAAs that receive more than half of their funding from CSBG of
 ten face different operational considerations than their peers—particularl
 y when it comes to planning\, sustainability\, and financial decision-maki
 ng. This roundtable\, hosted by NCAP and CAPLAW with special guest Kay Soh
 l\, will offer space to discuss financial strategies\, identify planning c
 onsiderations\, and explore practical steps agencies can take to stay prep
 ared in a shifting funding environment. This session will offer a space fo
 r both National Partners and Community Action peers to share insights\, re
 flect on experience\, and explore solutions together through discussion an
 d peer exchange.\n\nThis session is designed specifically for executive an
 d senior leaders (including CFOs and COOs) of CAAs with a high percentage 
 of their budgets from CSBG.
X-WR-RELCALID:1269b7a5b324fe7f54b8e04caf18db53
X-WR-TIMEZONE:America/Denver
BEGIN:VTIMEZONE
TZID:America/Denver
BEGIN:STANDARD
TZNAME:MST
DTSTART:20241103T020000
TZOFFSETFROM:-0600
TZOFFSETTO:-0700
RDATE:20251102T020000
RDATE:20261101T020000
END:STANDARD
BEGIN:DAYLIGHT
TZNAME:MDT
DTSTART:20250309T020000
TZOFFSETFROM:-0700
TZOFFSETTO:-0600
RDATE:20260308T020000
END:DAYLIGHT
END:VTIMEZONE
BEGIN:VEVENT
UID:d8676137-da73-48b1-b70c-948a2d4d8d2b
DTSTAMP:20260422T133909Z
DESCRIPTION:CAAs that receive more than half of their funding from CSBG oft
 en face different operational considerations than their peers—particularly
  when it comes to planning\, sustainability\, and financial decision-makin
 g. This roundtable\, hosted by NCAP and CAPLAW with special guest Kay Sohl
 \, will offer space to discuss financial strategies\, identify planning co
 nsiderations\, and explore practical steps agencies can take to stay prepa
 red in a shifting funding environment. This session will offer a space for
  both National Partners and Community Action peers to share insights\, ref
 lect on experience\, and explore solutions together through discussion and
  peer exchange.\n\nThis session is designed specifically for executive and
  senior leaders (including CFOs and COOs) of CAAs with a high percentage o
 f their budgets from CSBG.
DTSTART;TZID=America/Denver:20250806T130000
DTEND;TZID=America/Denver:20250806T143000
LOCATION:https://ncap.users.membersuite.com/events/9a6db3bd-0078-c122-ec1c-
 0b4875707b0a/details
SUMMARY:NCAP - When CSBG Is a Major Share of Your CAA Budget: A Strategy Se
 ssion for CAA Leaders
END:VEVENT
END:VCALENDAR
