BEGIN:VCALENDAR
VERSION:2.0
PRODID:-//caputah.org//NONSGML kigkonsult.se iCalcreator 2.30.10//
CALSCALE:GREGORIAN
METHOD:PUBLISH
UID:6ab3662a-8222-4a48-9a67-391ca05d7072
X-WR-CALDESC:The Service Prioritization Decision Assistance Tool (SPDAT) is
  a tool designed to help communities prioritize service delivery for peopl
 e experiencing homelessness by assessing their needs and vulnerabilities t
 o determine the most appropriate housing interventions. It is used by many
  Local Homeless Councils (LHC's) in Utah to coordinate entry for services 
 and it used as an evidence-based case management tool to assess progress t
 owards client goals.\n\nCAP Utah\, in partnership with Ogden-Weber Communi
 ty Action Partnership\, will be hosting a training for Northern Utah provi
 ders and anyone else who would like to attend. There is a suggested donati
 on of $7.50 to help offset printing and lunch costs.\n\nJoin us for in per
 son SPDAT training at OWCAP!
X-WR-RELCALID:aba75a5a1dcafe1cdc50a3351642517f
X-WR-TIMEZONE:America/Denver
BEGIN:VTIMEZONE
TZID:America/Denver
BEGIN:STANDARD
TZNAME:MST
DTSTART:20241103T020000
TZOFFSETFROM:-0600
TZOFFSETTO:-0700
RDATE:20251102T020000
RDATE:20261101T020000
END:STANDARD
BEGIN:DAYLIGHT
TZNAME:MDT
DTSTART:20250309T020000
TZOFFSETFROM:-0700
TZOFFSETTO:-0600
RDATE:20260308T020000
END:DAYLIGHT
END:VTIMEZONE
BEGIN:VEVENT
UID:3b040250-c509-46a3-bb02-0e2f4498aba4
DTSTAMP:20260422T133410Z
DESCRIPTION:The Service Prioritization Decision Assistance Tool (SPDAT) is 
 a tool designed to help communities prioritize service delivery for people
  experiencing homelessness by assessing their needs and vulnerabilities to
  determine the most appropriate housing interventions. It is used by many 
 Local Homeless Councils (LHC's) in Utah to coordinate entry for services a
 nd it used as an evidence-based case management tool to assess progress to
 wards client goals.\n\nCAP Utah\, in partnership with Ogden-Weber Communit
 y Action Partnership\, will be hosting a training for Northern Utah provid
 ers and anyone else who would like to attend. There is a suggested donatio
 n of $7.50 to help offset printing and lunch costs.\n\nJoin us for in pers
 on SPDAT training at OWCAP!
DTSTART;TZID=America/Denver:20250806T100000
DTEND;TZID=America/Denver:20250806T160000
LOCATION:OWCAP\, 3159 Grant Avenue\, Ogden\, AL 84401 US
SUMMARY:Northern Utah SPDAT Training - August 2025
END:VEVENT
END:VCALENDAR
