BEGIN:VCALENDAR
VERSION:2.0
PRODID:-//caputah.org//NONSGML kigkonsult.se iCalcreator 2.30.10//
CALSCALE:GREGORIAN
METHOD:PUBLISH
UID:32086cb0-7033-4e2b-b0e2-26fa91d8d49e
X-WR-CALDESC:Who Should Attend?\nThese conversations are exclusively for Ex
 ecutive Directors/CEOs of member nonprofit organizations. \n\nDescription
 \nUNA’s Executive Director Community Circles provide leaders an opportunit
 y to build authentic and trusted relationships with extraordinary\, like-m
 inded peers. Join us this month\, in person\, to find and give support and
  to have those unexpected and happy conversations that spark exciting idea
 s or solve problems.\n\nThese confidential discussions create a safe and p
 rivate space for you to build long-term relationships and cultivate trust 
 in the nonprofit community. Attend to make your nonprofit stronger and mor
 e resilient and to pay forward the gifts of those who trained\, encouraged
 \, and mentored you. Your world and your impact will become larger and mor
 e powerful. \n\nWhy Attend: \n\nJoin us to expand your reach and your capa
 city. You’ll benefit from with new ideas\, resources\, and relationships. 
 \nKeep up to date with trends and best practices within your segment\, reg
 ion\, and Utah’s nonprofit community.\nLearn about and share new technolog
 y or services that can help you save time\, money\, and frustration.\nFind
  help and provide support to the people who understand your work and share
  your vision for a new and better world.\nSharing your experience and expe
 rtise lifts the nonprofit community and feels oh so good!\nUNA Members: Pl
 ease log in to register for this members-only event.\n\nNote: Community Ci
 rcle sessions are not recorded.
X-WR-RELCALID:4f660fd4d920f04a11697849272729f2
X-WR-TIMEZONE:America/Denver
BEGIN:VTIMEZONE
TZID:America/Denver
BEGIN:STANDARD
TZNAME:MST
DTSTART:20241103T020000
TZOFFSETFROM:-0600
TZOFFSETTO:-0700
RDATE:20251102T020000
RDATE:20261101T020000
END:STANDARD
BEGIN:DAYLIGHT
TZNAME:MDT
DTSTART:20250309T020000
TZOFFSETFROM:-0700
TZOFFSETTO:-0600
RDATE:20260308T020000
END:DAYLIGHT
END:VTIMEZONE
BEGIN:VEVENT
UID:811ecb50-1325-4e9c-835e-c2f8d131d56e
DTSTAMP:20260422T134325Z
DESCRIPTION:Who Should Attend?\nThese conversations are exclusively for Exe
 cutive Directors/CEOs of member nonprofit organizations. \n\nDescription\n
 UNA’s Executive Director Community Circles provide leaders an opportunity 
 to build authentic and trusted relationships with extraordinary\, like-min
 ded peers. Join us this month\, in person\, to find and give support and t
 o have those unexpected and happy conversations that spark exciting ideas 
 or solve problems.\n\nThese confidential discussions create a safe and pri
 vate space for you to build long-term relationships and cultivate trust in
  the nonprofit community. Attend to make your nonprofit stronger and more 
 resilient and to pay forward the gifts of those who trained\, encouraged\,
  and mentored you. Your world and your impact will become larger and more 
 powerful. \n\nWhy Attend: \n\nJoin us to expand your reach and your capaci
 ty. You’ll benefit from with new ideas\, resources\, and relationships. \n
 Keep up to date with trends and best practices within your segment\, regio
 n\, and Utah’s nonprofit community.\nLearn about and share new technology 
 or services that can help you save time\, money\, and frustration.\nFind h
 elp and provide support to the people who understand your work and share y
 our vision for a new and better world.\nSharing your experience and expert
 ise lifts the nonprofit community and feels oh so good!\nUNA Members: Plea
 se log in to register for this members-only event.\n\nNote: Community Circ
 le sessions are not recorded.
DTSTART;TZID=America/Denver:20250807T160000
DTEND;TZID=America/Denver:20250807T173000
LOCATION:CHG Healthcare Making a Difference Foundation\, 7259 South Bingham
  Jct Blvd\, Midvale\, UT 84047 US
SUMMARY:UNA - Salt Lake City Executive Director Community Circle August (in
 -person)
END:VEVENT
END:VCALENDAR
