BEGIN:VCALENDAR
VERSION:2.0
PRODID:-//caputah.org//NONSGML kigkonsult.se iCalcreator 2.30.10//
CALSCALE:GREGORIAN
METHOD:PUBLISH
UID:929af2ad-a275-4d62-92f0-c482653973a6
X-WR-CALDESC:Why you should attend\nHead Start (HS) and Early Head Start (E
 HS) are some of the largest federally funded programs. The Head Start Act 
 and the Head Start Program Performance Standards (HSPPS) contain pages and
  pages of guidelines that programs must follow to stay in compliance. The 
 goal is to help you get comfortable with those guidelines.\n\nBased on dec
 ades of feedback\, we built this online boot camp to blend regulations\, b
 est practices and action planning with the opportunity to ask your questio
 ns.\n\nParticipants declare Wipfli training to be “empowering\,” “outstand
 ing\,” “meaningful\,” “invaluable” and “relevant.”\n\nWho should attend\nI
 f you’re new\, if you’ve been around a while and want a refresher\, if you
 ’re program oriented or if you’re fiscal oriented — this session is for yo
 u. There will be something for everyone:\n\nLeaders interested in learning
  how to apply compliance with current regulations while still meeting the 
 mission\nThose new to leadership in the agency who are now responsible for
  financial and/or program compliance\nTeams\, including the CEO/executive 
 director\, fiscal team\, program teams\, policy council and board/tribal c
 ouncil members\n\nRegistration fee\nRegular rate: $975 per person\n\nWipfl
 i accepts AmEx\, Discover\, Visa and Mastercard.\n\nRegistration fees incl
 ude:\n\nUp to 9 CPE credits in accordance with the standards of the Nation
 al Registry of CPE Sponsors. CPE credits are granted based on a 50-minute 
 hour.\nA training workbook.\nReference materials (any PowerPoint presentat
 ions and/or additional references) available for download.\n\nDaily schedu
 le\nTuesday\, August 5\, 2025\n\n10:30 a.m.-12 p.m. and 1-2:30 p.m CT\n\nH
 S history\nHS regulations\nGovernance\nThe culture of safety and continuou
 s improvement\nWednesday\, August 6\, 2025\n\n10:30 a.m.-12 p.m. and 1-2:3
 0 p.m CT\n\nHR compliance in HS\nEligibility\, recruitment\, selection\, e
 nrollment and attendance (ERSEA)\n \n\nThursday\, August 7\, 2025\n\n10:30
  a.m.-12 p.m. and 1-2:30 p.m CT\n\nProgram design (health\, nutrition\, pa
 rent involvement\, ratios\, etc.)\nCommunity involvement aka in-kind and w
 rap-up
X-WR-RELCALID:d05f1638c3a75cd33fd37a6bc7bc59d0
X-WR-TIMEZONE:America/Denver
BEGIN:VTIMEZONE
TZID:America/Denver
BEGIN:STANDARD
TZNAME:MST
DTSTART:20241103T020000
TZOFFSETFROM:-0600
TZOFFSETTO:-0700
RDATE:20251102T020000
RDATE:20261101T020000
END:STANDARD
BEGIN:DAYLIGHT
TZNAME:MDT
DTSTART:20250309T020000
TZOFFSETFROM:-0700
TZOFFSETTO:-0600
RDATE:20260308T020000
END:DAYLIGHT
END:VTIMEZONE
BEGIN:VEVENT
UID:db4ed658-8160-484c-9cf2-1e6bed3891ff
DTSTAMP:20260422T133612Z
DESCRIPTION:Why you should attend\nHead Start (HS) and Early Head Start (EH
 S) are some of the largest federally funded programs. The Head Start Act a
 nd the Head Start Program Performance Standards (HSPPS) contain pages and 
 pages of guidelines that programs must follow to stay in compliance. The g
 oal is to help you get comfortable with those guidelines.\n\nBased on deca
 des of feedback\, we built this online boot camp to blend regulations\, be
 st practices and action planning with the opportunity to ask your question
 s.\n\nParticipants declare Wipfli training to be “empowering\,” “outstandi
 ng\,” “meaningful\,” “invaluable” and “relevant.”\n\nWho should attend\nIf
  you’re new\, if you’ve been around a while and want a refresher\, if you’
 re program oriented or if you’re fiscal oriented — this session is for you
 . There will be something for everyone:\n\nLeaders interested in learning 
 how to apply compliance with current regulations while still meeting the m
 ission\nThose new to leadership in the agency who are now responsible for 
 financial and/or program compliance\nTeams\, including the CEO/executive d
 irector\, fiscal team\, program teams\, policy council and board/tribal co
 uncil members\n\nRegistration fee\nRegular rate: $975 per person\n\nWipfli
  accepts AmEx\, Discover\, Visa and Mastercard.\n\nRegistration fees inclu
 de:\n\nUp to 9 CPE credits in accordance with the standards of the Nationa
 l Registry of CPE Sponsors. CPE credits are granted based on a 50-minute h
 our.\nA training workbook.\nReference materials (any PowerPoint presentati
 ons and/or additional references) available for download.\n\nDaily schedul
 e\nTuesday\, August 5\, 2025\n\n10:30 a.m.-12 p.m. and 1-2:30 p.m CT\n\nHS
  history\nHS regulations\nGovernance\nThe culture of safety and continuous
  improvement\nWednesday\, August 6\, 2025\n\n10:30 a.m.-12 p.m. and 1-2:30
  p.m CT\n\nHR compliance in HS\nEligibility\, recruitment\, selection\, en
 rollment and attendance (ERSEA)\n \n\nThursday\, August 7\, 2025\n\n10:30 
 a.m.-12 p.m. and 1-2:30 p.m CT\n\nProgram design (health\, nutrition\, par
 ent involvement\, ratios\, etc.)\nCommunity involvement aka in-kind and wr
 ap-up
DTSTART;TZID=America/Denver:20250805T040000
DTEND;TZID=America/Denver:20250807T040001
LOCATION:https://www.wipfli.com/events/np-early-head-start-regulations-boot
 -camp-august-2025?utm_medium=email&utm_term=N%2FA&utm_source=CIJ&utm_conte
 nt=NGE%20-%20Upcoming%20Training%20Email%20-%207.7.25%20%28AH%29&utm_campa
 ign=NGE%20-%202025%20Training%20Emails
SUMMARY:WIPFLI - Head Start/Early Head Start regulations boot camp
END:VEVENT
END:VCALENDAR
