BEGIN:VCALENDAR
VERSION:2.0
PRODID:-//caputah.org//NONSGML kigkonsult.se iCalcreator 2.30.10//
CALSCALE:GREGORIAN
METHOD:PUBLISH
UID:0d985c01-81fc-4be3-9bac-1e6386a853ab
X-WR-CALDESC:Why attend\nAre you finding it hard to generate in-kind?\n\nIs
  answering the question\, “Is this in-kind?” your responsibility?\n\nDoes 
 generating in-kind fall on your shoulders?\n\nOr do you not even know what
  this “in-kind” thing is?\n\nIf so\, this is the training for you. First\,
  we’ll discuss the tools\, techniques and regulations of planning\, genera
 ting\, calculating and documenting non-federal match. Make generating in-k
 ind the responsibility of everyone in your program.\n\nOnce you have heard
  the compliance side of in-kind\, we’ll determine the plan: who to ask\, h
 ow to ask and what to ask. Leave with specific goals\, strategies and task
 s to bring more in-kind into your agency. (Imagine if you had all the in-k
 ind you needed.)\n\nLearning objectives\nExplore the basics of in-kind\, i
 ncluding the different types of in-kind and tips on how to generate more i
 n-kind.\nReview the specifics of in-kind requirements and the common pitfa
 lls to avoid.\nDiscover who in your community to ask for in-kind.\n\nRegis
 tration fee\n$300 per person\n\nMy Wipfli nonprofit and government members
 hip service members automatically receive an additional $25 discount per r
 egistrant.\n\nWipfli accepts AmEx\, Discover\, Visa and Mastercard.\n\nThe
  registration fee includes:\n\nUp to 3 continuing professional education (
 CPE) credits in accordance with the standards of the National Registry of 
 CPE Sponsors. CPE credits are granted based on a 50-minute hour.\nReferenc
 e materials (any PowerPoint presentations and/or additional references) av
 ailable for download.\n\nSchedule\nWednesday\n\n8/13/2025                 
                           \n\n10:30 a.m.-12 p.m. CT                    Pre
 sentation\n\n12-1 p.m. CT                                   Lunch (on your
  own)\n\n1-2:30 p.m. CT                                Presentation\n\nBe 
 prepared\nYou’ll receive an email once you’ve been added to our event-host
 ing platform\, as well as reminders one day and one hour prior to the trai
 ning. Materials will be available one hour before the training until one d
 ay after the training.
X-WR-RELCALID:3b813cd4c3867c2d51fabb4040d010a3
X-WR-TIMEZONE:America/Denver
BEGIN:VTIMEZONE
TZID:America/Denver
BEGIN:STANDARD
TZNAME:MST
DTSTART:20241103T020000
TZOFFSETFROM:-0600
TZOFFSETTO:-0700
RDATE:20251102T020000
RDATE:20261101T020000
END:STANDARD
BEGIN:DAYLIGHT
TZNAME:MDT
DTSTART:20250309T020000
TZOFFSETFROM:-0700
TZOFFSETTO:-0600
RDATE:20260308T020000
END:DAYLIGHT
END:VTIMEZONE
BEGIN:VEVENT
UID:d9c2a735-6da1-49d6-a408-e68ac5171529
DTSTAMP:20260422T133734Z
DESCRIPTION:Why attend\nAre you finding it hard to generate in-kind?\n\nIs 
 answering the question\, “Is this in-kind?” your responsibility?\n\nDoes g
 enerating in-kind fall on your shoulders?\n\nOr do you not even know what 
 this “in-kind” thing is?\n\nIf so\, this is the training for you. First\, 
 we’ll discuss the tools\, techniques and regulations of planning\, generat
 ing\, calculating and documenting non-federal match. Make generating in-ki
 nd the responsibility of everyone in your program.\n\nOnce you have heard 
 the compliance side of in-kind\, we’ll determine the plan: who to ask\, ho
 w to ask and what to ask. Leave with specific goals\, strategies and tasks
  to bring more in-kind into your agency. (Imagine if you had all the in-ki
 nd you needed.)\n\nLearning objectives\nExplore the basics of in-kind\, in
 cluding the different types of in-kind and tips on how to generate more in
 -kind.\nReview the specifics of in-kind requirements and the common pitfal
 ls to avoid.\nDiscover who in your community to ask for in-kind.\n\nRegist
 ration fee\n$300 per person\n\nMy Wipfli nonprofit and government membersh
 ip service members automatically receive an additional $25 discount per re
 gistrant.\n\nWipfli accepts AmEx\, Discover\, Visa and Mastercard.\n\nThe 
 registration fee includes:\n\nUp to 3 continuing professional education (C
 PE) credits in accordance with the standards of the National Registry of C
 PE Sponsors. CPE credits are granted based on a 50-minute hour.\nReference
  materials (any PowerPoint presentations and/or additional references) ava
 ilable for download.\n\nSchedule\nWednesday\n\n8/13/2025                  
                          \n\n10:30 a.m.-12 p.m. CT                    Pres
 entation\n\n12-1 p.m. CT                                   Lunch (on your 
 own)\n\n1-2:30 p.m. CT                                Presentation\n\nBe p
 repared\nYou’ll receive an email once you’ve been added to our event-hosti
 ng platform\, as well as reminders one day and one hour prior to the train
 ing. Materials will be available one hour before the training until one da
 y after the training.
DTSTART;TZID=America/Denver:20250813T093000
DTEND;TZID=America/Denver:20250813T133000
LOCATION:https://www.wipfli.com/events/in-kind-regulations-and-making-your-
 plan-august-2025?utm_medium=email&utm_term=N%2FA&utm_source=CIJ&utm_conten
 t=NGE%20-%20Upcoming%20Training%20Email%20-%207.7.25%20%28AH%29&utm_campai
 gn=NGE%20-%202025%20Training%20Emails
SUMMARY:WIPFLI - In-kind regulations and making your plan
END:VEVENT
END:VCALENDAR
