BEGIN:VCALENDAR
VERSION:2.0
PRODID:-//caputah.org//NONSGML kigkonsult.se iCalcreator 2.30.10//
CALSCALE:GREGORIAN
METHOD:PUBLISH
UID:76a5ea05-87f2-4ed8-a582-805426dc115d
X-WR-CALDESC:Join us for a walkthrough of the new guide When Your CAA’s Upc
 oming Fiscal Year is Uncertain: A Guide for CAA Boards. This session will 
 introduce key strategies boards can use to stay informed\, plan for differ
 ent scenarios\, and support their agencies through changing fiscal conditi
 ons. We’ll focus on actions boards can take to help their agencies remain 
 strong and mission-focused during uncertain times.
X-WR-RELCALID:df8c87804da99a9fe53aabc644f4b122
X-WR-TIMEZONE:America/Denver
BEGIN:VTIMEZONE
TZID:America/Denver
BEGIN:STANDARD
TZNAME:MST
DTSTART:20241103T020000
TZOFFSETFROM:-0600
TZOFFSETTO:-0700
RDATE:20251102T020000
RDATE:20261101T020000
END:STANDARD
BEGIN:DAYLIGHT
TZNAME:MDT
DTSTART:20250309T020000
TZOFFSETFROM:-0700
TZOFFSETTO:-0600
RDATE:20260308T020000
END:DAYLIGHT
END:VTIMEZONE
BEGIN:VEVENT
UID:108b147b-2cd6-4d12-977c-29c44d70526f
DTSTAMP:20260422T134151Z
DESCRIPTION:Join us for a walkthrough of the new guide When Your CAA’s Upco
 ming Fiscal Year is Uncertain: A Guide for CAA Boards. This session will i
 ntroduce key strategies boards can use to stay informed\, plan for differe
 nt scenarios\, and support their agencies through changing fiscal conditio
 ns. We’ll focus on actions boards can take to help their agencies remain s
 trong and mission-focused during uncertain times.
DTSTART;TZID=America/Denver:20250818T120000
DTEND;TZID=America/Denver:20250818T130000
LOCATION:https://communityactionpartnership.zoom.us/webinar/register/WN_x6p
 qQisCS-yx1CHoEkQulg#/registration
SUMMARY:NCAP - When Your CAA’s New Fiscal Year is Uncertain: What Boards Ca
 n Do Now
END:VEVENT
END:VCALENDAR
