BEGIN:VCALENDAR
VERSION:2.0
PRODID:-//caputah.org//NONSGML kigkonsult.se iCalcreator 2.30.10//
CALSCALE:GREGORIAN
METHOD:PUBLISH
UID:8f84e635-228e-4375-b8ef-8b2f22004010
X-WR-CALDESC:Community Action Agencies have a unique role in amplifying the
  voices of families within their communities. This interactive webinar is 
 designed to equip agency leaders\, advocates\, and frontline staff with st
 rategies to cultivate meaningful family leadership. Participants will expl
 ore techniques for identifying potential family leaders\, fostering their 
 growth\, and creating pathways for active\, engaged participation in agenc
 y decisions and community initiatives. This session will also cover key ch
 allenges and solutions for sustaining engagement\, ensuring that family le
 adership remains an integral and impactful part of the Community Action mi
 ssion. Join NCAP staff and special guest facilitators from Alia Innovation
 s for this timely conversation.
X-WR-RELCALID:7b99476119229ee58d7a7e8afe096f64
X-WR-TIMEZONE:America/Denver
BEGIN:VTIMEZONE
TZID:America/Denver
BEGIN:STANDARD
TZNAME:MST
DTSTART:20241103T020000
TZOFFSETFROM:-0600
TZOFFSETTO:-0700
RDATE:20251102T020000
RDATE:20261101T020000
END:STANDARD
BEGIN:DAYLIGHT
TZNAME:MDT
DTSTART:20250309T020000
TZOFFSETFROM:-0700
TZOFFSETTO:-0600
RDATE:20260308T020000
END:DAYLIGHT
END:VTIMEZONE
BEGIN:VEVENT
UID:c741e88d-4473-4a4d-a32d-bf85d579d463
DTSTAMP:20260422T134157Z
DESCRIPTION:Community Action Agencies have a unique role in amplifying the 
 voices of families within their communities. This interactive webinar is d
 esigned to equip agency leaders\, advocates\, and frontline staff with str
 ategies to cultivate meaningful family leadership. Participants will explo
 re techniques for identifying potential family leaders\, fostering their g
 rowth\, and creating pathways for active\, engaged participation in agency
  decisions and community initiatives. This session will also cover key cha
 llenges and solutions for sustaining engagement\, ensuring that family lea
 dership remains an integral and impactful part of the Community Action mis
 sion. Join NCAP staff and special guest facilitators from Alia Innovations
  for this timely conversation.
DTSTART;TZID=America/Denver:20250820T103000
DTEND;TZID=America/Denver:20250820T113000
LOCATION:https://communityactionpartnership.zoom.us/webinar/register/WN_BhZ
 aNVyERFqbIQoZTmUkwg#/registration
SUMMARY:NCAP - Engaging and Building Family Leadership in Community Action
END:VEVENT
END:VCALENDAR
