BEGIN:VCALENDAR
VERSION:2.0
PRODID:-//caputah.org//NONSGML kigkonsult.se iCalcreator 2.30.10//
CALSCALE:GREGORIAN
METHOD:PUBLISH
UID:93305d05-aeb9-4166-8ad0-e905f2cfb0b9
X-WR-CALDESC:You want to do everything you can to make sure your organizati
 on and employees are protected. Are you confident that your Human Resource
 s policies and practices are legal\, equitable\, and fully able to protect
  your mission? While mission and community are the primary focus of nonpro
 fits\, people management and compliance with federal and state law are cri
 tical and no less demanding for today's successful nonprofit.\n\nThe Nonpr
 ofit Credential in Human Resources (HR) gives you the tools—and expert adv
 ice in how to use them—to implement best practices in HR at your nonprofit
 . The course will demonstrate how to adapt your HR policies to comply with
  changing laws and will provide a framework for staying current in the evo
 lving HR landscape.\n\nWhat You’ll Gain:\n\nGain a comprehensive understan
 ding of key employment and discrimination laws relevant to an organization
 ’s size —and how to implement them effectively\nPractical guidance for cre
 ating or refining personnel policies and handbooks that keep you compliant
  and confident\nGain critical insight into employee recruitment best pract
 ices\, learn new methods to retain and motivate employees\nLeave with a to
 olkit for performance appraisals that drive performance\nReady to empower 
 your team and create an organization where people thrive? Let’s make it ha
 ppen.\n\nUpon completion\, your organization will earn the UNA Human Resou
 rces Badge\, a mark of excellence to share with your network and show the 
 world you’re serious about making an impact.\n\nCost\nUNA Members: $180 fo
 r the first person/$40 for each additional participant\nNot-Yet Members: $
 360 for the first person/$80 for each additional participant\n\nCourse Dat
 es\nOnline Training Sessions (All session will be recorded)\nDay 1: Wednes
 day August 20\, 2025 | 9:30 AM to 3:30 PM\nDay 2: Thursday August 21\, 202
 5 | 9:30 AM to 3:30 PM\n\nOrganizational Consultation\n20-minute consult o
 n Tuesday September 30\, 2025
X-WR-RELCALID:d6f1b092c2913d435ea2a9373c242e90
X-WR-TIMEZONE:America/Denver
BEGIN:VTIMEZONE
TZID:America/Denver
BEGIN:STANDARD
TZNAME:MST
DTSTART:20241103T020000
TZOFFSETFROM:-0600
TZOFFSETTO:-0700
RDATE:20251102T020000
RDATE:20261101T020000
END:STANDARD
BEGIN:DAYLIGHT
TZNAME:MDT
DTSTART:20250309T020000
TZOFFSETFROM:-0700
TZOFFSETTO:-0600
RDATE:20260308T020000
END:DAYLIGHT
END:VTIMEZONE
BEGIN:VEVENT
UID:fe7edd99-aec9-4c99-8f5a-7a8f4d497293
DTSTAMP:20260422T133417Z
DESCRIPTION:You want to do everything you can to make sure your organizatio
 n and employees are protected. Are you confident that your Human Resources
  policies and practices are legal\, equitable\, and fully able to protect 
 your mission? While mission and community are the primary focus of nonprof
 its\, people management and compliance with federal and state law are crit
 ical and no less demanding for today's successful nonprofit.\n\nThe Nonpro
 fit Credential in Human Resources (HR) gives you the tools—and expert advi
 ce in how to use them—to implement best practices in HR at your nonprofit.
  The course will demonstrate how to adapt your HR policies to comply with 
 changing laws and will provide a framework for staying current in the evol
 ving HR landscape.\n\nWhat You’ll Gain:\n\nGain a comprehensive understand
 ing of key employment and discrimination laws relevant to an organization’
 s size —and how to implement them effectively\nPractical guidance for crea
 ting or refining personnel policies and handbooks that keep you compliant 
 and confident\nGain critical insight into employee recruitment best practi
 ces\, learn new methods to retain and motivate employees\nLeave with a too
 lkit for performance appraisals that drive performance\nReady to empower y
 our team and create an organization where people thrive? Let’s make it hap
 pen.\n\nUpon completion\, your organization will earn the UNA Human Resour
 ces Badge\, a mark of excellence to share with your network and show the w
 orld you’re serious about making an impact.\n\nCost\nUNA Members: $180 for
  the first person/$40 for each additional participant\nNot-Yet Members: $3
 60 for the first person/$80 for each additional participant\n\nCourse Date
 s\nOnline Training Sessions (All session will be recorded)\nDay 1: Wednesd
 ay August 20\, 2025 | 9:30 AM to 3:30 PM\nDay 2: Thursday August 21\, 2025
  | 9:30 AM to 3:30 PM\n\nOrganizational Consultation\n20-minute consult on
  Tuesday September 30\, 2025
DTSTART;TZID=America/Denver:20250820T040000
DTEND;TZID=America/Denver:20250821T040001
LOCATION:https://members.utahnonprofits.org/una-event-calendar/Details/2025
 -nonprofit-credential-in-human-resources-1268817?sourceTypeId=Website
SUMMARY:UNA - 2025 Nonprofit Credential in Human Resources
END:VEVENT
END:VCALENDAR
