BEGIN:VCALENDAR
VERSION:2.0
PRODID:-//caputah.org//NONSGML kigkonsult.se iCalcreator 2.30.10//
CALSCALE:GREGORIAN
METHOD:PUBLISH
UID:cc26740b-e14c-456d-b7bb-dd7da95ccbed
X-WR-CALDESC:Join us for an exclusive training session tailored for state m
 onitors and pass-through entities. This comprehensive program will cover e
 ssential aspects of the Uniform Guidance\, including an introduction to 2 
 CFR Part 200\, subrecipient financial monitoring\, procurement standards\,
  cost principles\, and audit requirements. This training is specifically d
 esigned for grant managers\, financial officers\, and compliance officers 
 responsible for monitoring or managing subrecipients. Participants will ga
 in valuable insights and engage in interactive discussions to deepen their
  expertise in federal award administration and monitoring. By the end of t
 he session\, you will be able to navigate the Uniform Guidance giving you 
 increased confidence in managing subrecipients\, have built your knowledge
  of procurement standards\, and be ready to enhance your monitoring proces
 ses. We look forward to your participation in this essential training oppo
 rtunity.\n \n\nOnline event registration closes 1 hour prior to the start 
 of the training.  Please email trainings@wipfli.com to register.\n\nFEE: $
 975 \n\nAGENDA\n\nDay 1: Introduction and General Provisions\n\nOverview o
 f Uniform Guidance: Introduction to 2 CFR Part 200\, including its purpose
  and applicability.\nAdministrative Requirements: Discussion on pre-award 
 and post-award requirements\, including notices of funding opportunities\,
  risk assessment\, and specific grant conditions.\nSubrecipient Monitoring
 : Review financial management and reporting\, managing and monitoring subr
 ecipients to ensure compliance\, and internal controls.\n \nDay 2\n\nProcu
 rement Standards: We will cover the rules and regulations for procurement 
 under federal awards.\nPerformance Measurement: Strategies for measuring a
 nd reporting performance outcomes.\nRecords: Review regulations around rec
 ord retention and access.\n \nDay 3\n\nCost Principles: Guidelines on allo
 wable costs\, cost allocation\, and indirect costs.\nAudit Requirements: I
 nformation on audit processes\, including single audits and audit findings
 .\n\n8/19/2025 12:30 PM - 8/21/2025 4:00 PM\nCentral Daylight Time
X-WR-RELCALID:3599951ae40e4ca4c081cda80ef18c4c
X-WR-TIMEZONE:America/Denver
BEGIN:VTIMEZONE
TZID:America/Denver
BEGIN:STANDARD
TZNAME:MST
DTSTART:20241103T020000
TZOFFSETFROM:-0600
TZOFFSETTO:-0700
RDATE:20251102T020000
RDATE:20261101T020000
END:STANDARD
BEGIN:DAYLIGHT
TZNAME:MDT
DTSTART:20250309T020000
TZOFFSETFROM:-0700
TZOFFSETTO:-0600
RDATE:20260308T020000
END:DAYLIGHT
END:VTIMEZONE
BEGIN:VEVENT
UID:88c8aa0d-ccd7-402e-89ec-72c73233537a
DTSTAMP:20260422T133416Z
DESCRIPTION:Join us for an exclusive training session tailored for state mo
 nitors and pass-through entities. This comprehensive program will cover es
 sential aspects of the Uniform Guidance\, including an introduction to 2 C
 FR Part 200\, subrecipient financial monitoring\, procurement standards\, 
 cost principles\, and audit requirements. This training is specifically de
 signed for grant managers\, financial officers\, and compliance officers r
 esponsible for monitoring or managing subrecipients. Participants will gai
 n valuable insights and engage in interactive discussions to deepen their 
 expertise in federal award administration and monitoring. By the end of th
 e session\, you will be able to navigate the Uniform Guidance giving you i
 ncreased confidence in managing subrecipients\, have built your knowledge 
 of procurement standards\, and be ready to enhance your monitoring process
 es. We look forward to your participation in this essential training oppor
 tunity.\n \n\nOnline event registration closes 1 hour prior to the start o
 f the training.  Please email trainings@wipfli.com to register.\n\nFEE: $9
 75 \n\nAGENDA\n\nDay 1: Introduction and General Provisions\n\nOverview of
  Uniform Guidance: Introduction to 2 CFR Part 200\, including its purpose 
 and applicability.\nAdministrative Requirements: Discussion on pre-award a
 nd post-award requirements\, including notices of funding opportunities\, 
 risk assessment\, and specific grant conditions.\nSubrecipient Monitoring:
  Review financial management and reporting\, managing and monitoring subre
 cipients to ensure compliance\, and internal controls.\n \nDay 2\n\nProcur
 ement Standards: We will cover the rules and regulations for procurement u
 nder federal awards.\nPerformance Measurement: Strategies for measuring an
 d reporting performance outcomes.\nRecords: Review regulations around reco
 rd retention and access.\n \nDay 3\n\nCost Principles: Guidelines on allow
 able costs\, cost allocation\, and indirect costs.\nAudit Requirements: In
 formation on audit processes\, including single audits and audit findings.
 \n\n8/19/2025 12:30 PM - 8/21/2025 4:00 PM\nCentral Daylight Time
DTSTART;TZID=America/Denver:20250819T040000
DTEND;TZID=America/Denver:20250821T040001
LOCATION:https://gfponline.wipfli.com/Shared_Content/Events/Event_Display.a
 spx?EventKey=WB031825&WebsiteKey=af6c1982-e96d-465e-ae30-fce5959931b5
SUMMARY:WIPFLI - Uniform Guidance for Pass-through Entities
END:VEVENT
END:VCALENDAR
