BEGIN:VCALENDAR
VERSION:2.0
PRODID:-//caputah.org//NONSGML kigkonsult.se iCalcreator 2.30.10//
CALSCALE:GREGORIAN
METHOD:PUBLISH
UID:b75ec6d8-50a4-409e-a2af-7e044e77dc41
X-WR-CALDESC:Why you should attend\nHaving strong internal controls and und
 erstanding the rules governing how you can and cannot spend federal dollar
 s are keys to fiscal management and overall compliance in your organizatio
 n.\n\nProfessionals new to the organization\, as well as professionals who
  have been there for decades\, will benefit from this two-to-four-day revi
 ew of the administrative and cost principles/allocation sections of the Of
 fice of Management and Budget's (OMB’s) 2 CFR Part 200 – Uniform Administr
 ative Requirements\, Cost Principles and Audit Requirements for Federal Aw
 ards (also known as the “Uniform Guidance”).\nReview the regulations you n
 eed to know to stay in compliance through examples\, stories and best prac
 tices learned from years of auditing and consulting. You won’t just learn 
 about the regulations but\, more importantly\, you’ll learn how to impleme
 nt them in your organization immediately.\n\nWipfli’s nonprofit profession
 als have been presenting the highest-quality training for more than 40 yea
 rs. Participants declare Wipfli training to be “empowering\,” “outstanding
 \,” “meaningful\,” “invaluable” and “relevant.” \n\nDaily schedule\nMonday
 \, August 25\, 2025\n\n7:45-8:30 a.m.                                 Regi
 stration and light refreshments\n\n8:30 a.m.-noon                         
        General provisions and administrative requirements\n\nNoon-1:30 p.m
 .                               Lunch (on your own)\n\n1:30-5 p.m.        
                                Administrative requirements (continued)\n\n
 Tuesday\, August 26\, 2025\n\n8-8:30 a.m.                                 
       Light refreshments\n\n8:30 a.m.-noon                                
 Cost principles and cost allocation\n\nNoon-1:30 p.m.                     
           Lunch (on your own)\n\n1:30-5 p.m.                              
          Selected items of cost and audit requirements\n\nRegistration fee
 \nEarly-bird rate ends August 1\, 2025\nEarly Bird: $850\nRegular: $900\nM
 y Wipfli Membership Service members automatically receive an additional $2
 5 discount per registrant.\n\nWipfli accepts AmEx\, Discover\, Visa and Ma
 stercard.\n\nRegistration fees include:\n\nUp to 14 CPE credits in accorda
 nce with the standards of the National Registry of CPE Sponsors. CPE credi
 ts are granted based on a 50-minute hour.\nA training workbook.\nReference
  materials (any PowerPoint presentations and/or additional references) ava
 ilable for download.\nRefreshment breaks.
X-WR-RELCALID:b204ffca2dd07f84b26da16a7b6837ea
X-WR-TIMEZONE:America/Denver
BEGIN:VTIMEZONE
TZID:America/Denver
BEGIN:STANDARD
TZNAME:MST
DTSTART:20241103T020000
TZOFFSETFROM:-0600
TZOFFSETTO:-0700
RDATE:20251102T020000
RDATE:20261101T020000
END:STANDARD
BEGIN:DAYLIGHT
TZNAME:MDT
DTSTART:20250309T020000
TZOFFSETFROM:-0700
TZOFFSETTO:-0600
RDATE:20260308T020000
END:DAYLIGHT
END:VTIMEZONE
BEGIN:VEVENT
UID:4de13d22-069c-42a5-9d8d-6e86653aba43
DTSTAMP:20260422T133916Z
DESCRIPTION:Why you should attend\nHaving strong internal controls and unde
 rstanding the rules governing how you can and cannot spend federal dollars
  are keys to fiscal management and overall compliance in your organization
 .\n\nProfessionals new to the organization\, as well as professionals who 
 have been there for decades\, will benefit from this two-to-four-day revie
 w of the administrative and cost principles/allocation sections of the Off
 ice of Management and Budget's (OMB’s) 2 CFR Part 200 – Uniform Administra
 tive Requirements\, Cost Principles and Audit Requirements for Federal Awa
 rds (also known as the “Uniform Guidance”).\nReview the regulations you ne
 ed to know to stay in compliance through examples\, stories and best pract
 ices learned from years of auditing and consulting. You won’t just learn a
 bout the regulations but\, more importantly\, you’ll learn how to implemen
 t them in your organization immediately.\n\nWipfli’s nonprofit professiona
 ls have been presenting the highest-quality training for more than 40 year
 s. Participants declare Wipfli training to be “empowering\,” “outstanding\
 ,” “meaningful\,” “invaluable” and “relevant.” \n\nDaily schedule\nMonday\
 , August 25\, 2025\n\n7:45-8:30 a.m.                                 Regis
 tration and light refreshments\n\n8:30 a.m.-noon                          
       General provisions and administrative requirements\n\nNoon-1:30 p.m.
                                Lunch (on your own)\n\n1:30-5 p.m.         
                               Administrative requirements (continued)\n\nT
 uesday\, August 26\, 2025\n\n8-8:30 a.m.                                  
      Light refreshments\n\n8:30 a.m.-noon                                C
 ost principles and cost allocation\n\nNoon-1:30 p.m.                      
          Lunch (on your own)\n\n1:30-5 p.m.                               
         Selected items of cost and audit requirements\n\nRegistration fee
 \nEarly-bird rate ends August 1\, 2025\nEarly Bird: $850\nRegular: $900\nM
 y Wipfli Membership Service members automatically receive an additional $2
 5 discount per registrant.\n\nWipfli accepts AmEx\, Discover\, Visa and Ma
 stercard.\n\nRegistration fees include:\n\nUp to 14 CPE credits in accorda
 nce with the standards of the National Registry of CPE Sponsors. CPE credi
 ts are granted based on a 50-minute hour.\nA training workbook.\nReference
  materials (any PowerPoint presentations and/or additional references) ava
 ilable for download.\nRefreshment breaks.
DTSTART;TZID=America/Denver:20250825T040000
DTEND;TZID=America/Denver:20250826T040001
LOCATION:Detroit Marriot at the Renaissance Center\, 400 Renaissance Drive\
 , Detroit\, MI 48243 US
SUMMARY:In-depth training on OMB’s Uniform Guidance: Pre-conference to NCAP
  Annual Convention
END:VEVENT
END:VCALENDAR
