BEGIN:VCALENDAR
VERSION:2.0
PRODID:-//caputah.org//NONSGML kigkonsult.se iCalcreator 2.30.10//
CALSCALE:GREGORIAN
METHOD:PUBLISH
UID:afb9883d-6588-45f4-9642-4f2660cedd67
X-WR-CALDESC:Good news! No\, actually\, great news on the House appropriati
 ons front! Join us for a coffee chat on Wednesday\, September 3rd at 1:30 
 PM ET to discuss the updates and what's next.\n\nPlease let us know via th
 e dedicated registration field if you have any questions for David. \n
X-WR-RELCALID:1d86a72a699968e08bb7e16ef7bdf22e
X-WR-TIMEZONE:America/Denver
BEGIN:VTIMEZONE
TZID:America/Denver
BEGIN:STANDARD
TZNAME:MST
DTSTART:20241103T020000
TZOFFSETFROM:-0600
TZOFFSETTO:-0700
RDATE:20251102T020000
RDATE:20261101T020000
END:STANDARD
BEGIN:DAYLIGHT
TZNAME:MDT
DTSTART:20250309T020000
TZOFFSETFROM:-0700
TZOFFSETTO:-0600
RDATE:20260308T020000
END:DAYLIGHT
END:VTIMEZONE
BEGIN:VEVENT
UID:18e337a5-c905-49b2-a362-d96aa18bc0fb
DTSTAMP:20260422T121102Z
DESCRIPTION:Good news! No\, actually\, great news on the House appropriatio
 ns front! Join us for a coffee chat on Wednesday\, September 3rd at 1:30 P
 M ET to discuss the updates and what's next.\n\nPlease let us know via the
  dedicated registration field if you have any questions for David. \n
DTSTART;TZID=America/Denver:20250903T113000
DTEND;TZID=America/Denver:20250903T123000
LOCATION:https://us02web.zoom.us/webinar/register/WN_x7jZGVvLQuWloiUD8zyvLw
 #/registration
SUMMARY:NCAF - September 2025 Coffee Chat with David Bradley
END:VEVENT
END:VCALENDAR
