BEGIN:VCALENDAR
VERSION:2.0
PRODID:-//caputah.org//NONSGML kigkonsult.se iCalcreator 2.30.10//
CALSCALE:GREGORIAN
METHOD:PUBLISH
UID:05852c24-40e5-4441-b316-fc3df603b5d7
X-WR-CALDESC:Participants of this webinar will learn who is eligible to enr
 oll\, tips for a successful CCAP candidacy\, process due dates\, what to e
 xpect from testing\, and more. \n\nNote that this session is recommended t
 o those new to the CCAP process and first time Candidates.\n
X-WR-RELCALID:a97460d3df142bb44c861c457f6c463f
X-WR-TIMEZONE:America/Denver
BEGIN:VTIMEZONE
TZID:America/Denver
BEGIN:STANDARD
TZNAME:MST
DTSTART:20241103T020000
TZOFFSETFROM:-0600
TZOFFSETTO:-0700
RDATE:20251102T020000
RDATE:20261101T020000
END:STANDARD
BEGIN:DAYLIGHT
TZNAME:MDT
DTSTART:20250309T020000
TZOFFSETFROM:-0700
TZOFFSETTO:-0600
RDATE:20260308T020000
END:DAYLIGHT
END:VTIMEZONE
BEGIN:VEVENT
UID:e059e9a1-dbcf-4cd4-a1e9-a1e49004317a
DTSTAMP:20260422T121416Z
DESCRIPTION:Participants of this webinar will learn who is eligible to enro
 ll\, tips for a successful CCAP candidacy\, process due dates\, what to ex
 pect from testing\, and more. \n\nNote that this session is recommended to
  those new to the CCAP process and first time Candidates.\n
DTSTART;TZID=America/Denver:20250904T110000
DTEND;TZID=America/Denver:20250904T120000
LOCATION:https://ncap.users.membersuite.com/home
SUMMARY:NCAP - How to Enroll and What to Expect as a CCAP Candidate
END:VEVENT
END:VCALENDAR
