BEGIN:VCALENDAR
VERSION:2.0
PRODID:-//caputah.org//NONSGML kigkonsult.se iCalcreator 2.30.10//
CALSCALE:GREGORIAN
METHOD:PUBLISH
UID:1d36669a-7f67-4e7d-911b-b693b173df8d
X-WR-CALDESC:Our fall resource roundup brings together practical guides and
  toolkits to help you plan\, discuss\, and act with confidence. From scena
 rio planning and board engagement to messaging support\, these resources a
 re designed to keep your agency focused and ready for what’s ahead.
X-WR-RELCALID:3f1a452646dbf1eb1074a71ddb42e3d1
X-WR-TIMEZONE:America/Denver
BEGIN:VTIMEZONE
TZID:America/Denver
BEGIN:STANDARD
TZNAME:MST
DTSTART:20241103T020000
TZOFFSETFROM:-0600
TZOFFSETTO:-0700
RDATE:20251102T020000
RDATE:20261101T020000
END:STANDARD
BEGIN:DAYLIGHT
TZNAME:MDT
DTSTART:20250309T020000
TZOFFSETFROM:-0700
TZOFFSETTO:-0600
RDATE:20260308T020000
END:DAYLIGHT
END:VTIMEZONE
BEGIN:VEVENT
UID:307a73c0-238c-4d28-87a8-3dc0a39da04e
DTSTAMP:20260422T120928Z
DESCRIPTION:Our fall resource roundup brings together practical guides and 
 toolkits to help you plan\, discuss\, and act with confidence. From scenar
 io planning and board engagement to messaging support\, these resources ar
 e designed to keep your agency focused and ready for what’s ahead.
DTSTART;TZID=America/Denver:20250910T100000
DTEND;TZID=America/Denver:20250910T110000
LOCATION:https://communityactionpartnership.zoom.us/webinar/register/WN_1jC
 pE8saTfy4_Sr2laFG0A#/registration
SUMMARY:NCAP - Navigating Fall 2025: Tools for Action
END:VEVENT
END:VCALENDAR
