BEGIN:VCALENDAR
VERSION:2.0
PRODID:-//caputah.org//NONSGML kigkonsult.se iCalcreator 2.30.10//
CALSCALE:GREGORIAN
METHOD:PUBLISH
UID:8fe81d58-176a-43b2-8137-80906a6ec301
X-WR-CALDESC:Effectively carrying out a supervisor role is more “art” than 
 science. Often\, people leaders are left on their own to try and figure ou
 t how to implement their supervisor duties. Unskilled supervision can crea
 te organizational cultures that are ineffective at best\, and causing harm
  at worst. When people leaders understand the expectations of their role\,
  they are able to supervise in a way that fosters healthy working relation
 ships with each employee that reports to them. This\, in turn\, builds psy
 chological safety and creates thriving\, inclusive organizational cultures
 .\n\nThis highly interactive training provides participants with immediate
 ly implementable tools and strategies. \n\nThis workshop is one of MCN’s m
 ost popular trainings and consistently receives high evaluations. \n\nThis
  is a six-hour virtual training spread over three two-hour sessions:\n\nSe
 ptember 9\, 2025 from 9:00 A.M. to 11:00 P.M. MT \nSeptember 10\, 2025 fro
 m 10:00 A.M. to 12:00 P.M. MT\nSeptember 11\, 2025 from 10:00 A.M. to 12:0
 0 P.M. MT\nTopics \n\nCultivating self-awareness and brain/body response t
 o stress \nFeedback conversation skills \nDeveloping psychological safety 
 \nUsing the Platinum Rule in supervision \nOne-on-One check-ins and Superv
 ising Framework Coach approach to supervising \n\nCost:\nUNA Members: $135
  (Using the discount code found in the Info Hub under Partner Training Dis
 count Codes)\nNot-Yet-Members: $175
X-WR-RELCALID:a44b0e9222461ecf2c11fa2dccc59718
X-WR-TIMEZONE:America/Denver
BEGIN:VTIMEZONE
TZID:America/Denver
BEGIN:STANDARD
TZNAME:MST
DTSTART:20241103T020000
TZOFFSETFROM:-0600
TZOFFSETTO:-0700
RDATE:20251102T020000
RDATE:20261101T020000
END:STANDARD
BEGIN:DAYLIGHT
TZNAME:MDT
DTSTART:20250309T020000
TZOFFSETFROM:-0700
TZOFFSETTO:-0600
RDATE:20260308T020000
END:DAYLIGHT
END:VTIMEZONE
BEGIN:VEVENT
UID:3390b75e-519b-403a-abf1-34ceb9fa44f8
DTSTAMP:20260422T121351Z
DESCRIPTION:Effectively carrying out a supervisor role is more “art” than s
 cience. Often\, people leaders are left on their own to try and figure out
  how to implement their supervisor duties. Unskilled supervision can creat
 e organizational cultures that are ineffective at best\, and causing harm 
 at worst. When people leaders understand the expectations of their role\, 
 they are able to supervise in a way that fosters healthy working relations
 hips with each employee that reports to them. This\, in turn\, builds psyc
 hological safety and creates thriving\, inclusive organizational cultures.
 \n\nThis highly interactive training provides participants with immediatel
 y implementable tools and strategies. \n\nThis workshop is one of MCN’s mo
 st popular trainings and consistently receives high evaluations. \n\nThis 
 is a six-hour virtual training spread over three two-hour sessions:\n\nSep
 tember 9\, 2025 from 9:00 A.M. to 11:00 P.M. MT \nSeptember 10\, 2025 from
  10:00 A.M. to 12:00 P.M. MT\nSeptember 11\, 2025 from 10:00 A.M. to 12:00
  P.M. MT\nTopics \n\nCultivating self-awareness and brain/body response to
  stress \nFeedback conversation skills \nDeveloping psychological safety 
 \nUsing the Platinum Rule in supervision \nOne-on-One check-ins and Superv
 ising Framework Coach approach to supervising \n\nCost:\nUNA Members: $135
  (Using the discount code found in the Info Hub under Partner Training Dis
 count Codes)\nNot-Yet-Members: $175
DTSTART;TZID=America/Denver:20250910T100000
DTEND;TZID=America/Denver:20250910T120000
LOCATION:https://members.utahnonprofits.org/una-event-calendar/Details/prac
 tical-leadership-1-0-cultivating-thriving-supervisory-relationships-143500
 2?sourceTypeId=Website
SUMMARY:UNA - Practical Leadership 1.0: Cultivating Thriving Supervisory Re
 lationships (Day 2)
END:VEVENT
END:VCALENDAR
