BEGIN:VCALENDAR
VERSION:2.0
PRODID:-//caputah.org//NONSGML kigkonsult.se iCalcreator 2.30.10//
CALSCALE:GREGORIAN
METHOD:PUBLISH
UID:791c12ab-5cfc-43a5-abea-ded4ae7f942e
X-WR-CALDESC:Cost:\nUNA Members: $40.50 (Using the discount code found in t
 he Info Hub under Partner Training Discount Codes)\nNot-Yet-Members: $45.0
 0\n\nVermont’s nonprofits are facing tough decisions—funding shifts\, prog
 ram reductions\, and potential staffing changes. This session offers nonpr
 ofit leaders and HR practitioners hands-on practical guidance on supportin
 g organizations\, culture\, and teams with transparency and empathy during
  uncertain times. Learn how to communicate funding realities and potential
  changes without creating fear\, uphold your organizational values during 
 times of stress\, and approach layoffs or restructuring with dignity and c
 are.\n\nWe’ll explore compassionate offboarding\, sustaining culture\, and
  maintaining team morale through transitions.\n\nThe session includes a br
 ief panel featuring perspectives from an HR practitioner and union represe
 ntative. Together with the trainer\, they’ll share real-world perspectives
 \, practical tools\, and strategies to help you lead with confidence\, cla
 rity\, and compassion.\n\nAs part of the registration\, Vermont participan
 ts will receive a 50% discount code for Nonprofit Wages and Benefits Repor
 t!
X-WR-RELCALID:1bed1c0f6efdd6f7569a31d3ad581be9
X-WR-TIMEZONE:America/Denver
BEGIN:VTIMEZONE
TZID:America/Denver
BEGIN:STANDARD
TZNAME:MST
DTSTART:20241103T020000
TZOFFSETFROM:-0600
TZOFFSETTO:-0700
RDATE:20251102T020000
RDATE:20261101T020000
END:STANDARD
BEGIN:DAYLIGHT
TZNAME:MDT
DTSTART:20250309T020000
TZOFFSETFROM:-0700
TZOFFSETTO:-0600
RDATE:20260308T020000
END:DAYLIGHT
END:VTIMEZONE
BEGIN:VEVENT
UID:0dfe362f-49e7-4b41-84dd-cb96b3c105fd
DTSTAMP:20260422T134039Z
DESCRIPTION:Cost:\nUNA Members: $40.50 (Using the discount code found in th
 e Info Hub under Partner Training Discount Codes)\nNot-Yet-Members: $45.00
 \n\nVermont’s nonprofits are facing tough decisions—funding shifts\, progr
 am reductions\, and potential staffing changes. This session offers nonpro
 fit leaders and HR practitioners hands-on practical guidance on supporting
  organizations\, culture\, and teams with transparency and empathy during 
 uncertain times. Learn how to communicate funding realities and potential 
 changes without creating fear\, uphold your organizational values during t
 imes of stress\, and approach layoffs or restructuring with dignity and ca
 re.\n\nWe’ll explore compassionate offboarding\, sustaining culture\, and 
 maintaining team morale through transitions.\n\nThe session includes a bri
 ef panel featuring perspectives from an HR practitioner and union represen
 tative. Together with the trainer\, they’ll share real-world perspectives\
 , practical tools\, and strategies to help you lead with confidence\, clar
 ity\, and compassion.\n\nAs part of the registration\, Vermont participant
 s will receive a 50% discount code for Nonprofit Wages and Benefits Report
 !
DTSTART;TZID=America/Denver:20250911T073000
DTEND;TZID=America/Denver:20250911T090000
LOCATION:https://members.utahnonprofits.org/una-event-calendar/Details/navi
 gating-uncertainty-hr-culture-and-communication-in-tough-times-1475344?sou
 rceTypeId=Website
SUMMARY:UNA - Navigating Uncertainty: HR\, Culture\, and Communication in T
 ough Times
END:VEVENT
END:VCALENDAR
