BEGIN:VCALENDAR
VERSION:2.0
PRODID:-//caputah.org//NONSGML kigkonsult.se iCalcreator 2.30.10//
CALSCALE:GREGORIAN
METHOD:PUBLISH
UID:e4d91e2f-f8f0-43e7-be8c-ae4db74b529b
X-WR-CALDESC:Why you should attend\nJoin us online for a training workshop 
 to learn about the Office of Management and Budget’s (OMB’s) Uniform Guida
 nce regulations (2 CFR Part 200: Uniform Administrative Requirements\, Cos
 t Principles and Audit Requirements for Federal Awards).\n\nWe’ll review t
 he regulations and share examples\, stories and best practices learned fro
 m years of auditing and consulting.\n\nWipfli’s nonprofit specialists have
  been presenting high-quality training for more than 40 years. During this
  virtual workshop\, we’ll provide you with federal grant regulation traini
 ng relating to financial management and administration to help you with fi
 nancial grant compliance.\n\nParticipants declare Wipfli training to be “e
 mpowering\,” “outstanding\,” “meaningful\,” “invaluable” and “relevant.”\n
 \nJoin us from the comfort of your location. Sign up today.\n\nRegistratio
 n fee\n$975 per person\n\nMy Wipfli nonprofit and government membership se
 rvice members automatically receive an additional $25 discount per registr
 ant.\n\nWipfli accepts AmEx\, Discover\, Visa and Mastercard.\n\nThe regis
 tration fee includes:\n\nUp to 10.5 continuing professional education (CPE
 ) credits in accordance with the standards of the National Registry of CPE
  Sponsors. CPE credits are granted based on a 50-minute hour.\nReference m
 aterials (any PowerPoint presentations and/or additional references) avail
 able for download.\n\nDaily schedule\nTuesday\, September 9\, 2025\n12:30-
 4 p.m. CT | General provisions\, administrative requirements and procureme
 nt\n\nWednesday\, September 10\, 2025  \n12:30-4 p.m. CT | Monitoring and 
 reporting\, cost principles and cost allocation\n\nThursday\, September 11
 \, 2025\n12:30-4 p.m. CT | Selected items of cost and audit requirements
X-WR-RELCALID:021767a6d9499e0a6b98303dff6fc665
X-WR-TIMEZONE:America/Denver
BEGIN:VTIMEZONE
TZID:America/Denver
BEGIN:STANDARD
TZNAME:MST
DTSTART:20241103T020000
TZOFFSETFROM:-0600
TZOFFSETTO:-0700
RDATE:20251102T020000
RDATE:20261101T020000
END:STANDARD
BEGIN:DAYLIGHT
TZNAME:MDT
DTSTART:20250309T020000
TZOFFSETFROM:-0700
TZOFFSETTO:-0600
RDATE:20260308T020000
END:DAYLIGHT
END:VTIMEZONE
BEGIN:VEVENT
UID:2788a280-db47-4adb-85e5-1f97ab0b7f7e
DTSTAMP:20260422T121226Z
DESCRIPTION:Why you should attend\nJoin us online for a training workshop t
 o learn about the Office of Management and Budget’s (OMB’s) Uniform Guidan
 ce regulations (2 CFR Part 200: Uniform Administrative Requirements\, Cost
  Principles and Audit Requirements for Federal Awards).\n\nWe’ll review th
 e regulations and share examples\, stories and best practices learned from
  years of auditing and consulting.\n\nWipfli’s nonprofit specialists have 
 been presenting high-quality training for more than 40 years. During this 
 virtual workshop\, we’ll provide you with federal grant regulation trainin
 g relating to financial management and administration to help you with fin
 ancial grant compliance.\n\nParticipants declare Wipfli training to be “em
 powering\,” “outstanding\,” “meaningful\,” “invaluable” and “relevant.”\n
 \nJoin us from the comfort of your location. Sign up today.\n\nRegistratio
 n fee\n$975 per person\n\nMy Wipfli nonprofit and government membership se
 rvice members automatically receive an additional $25 discount per registr
 ant.\n\nWipfli accepts AmEx\, Discover\, Visa and Mastercard.\n\nThe regis
 tration fee includes:\n\nUp to 10.5 continuing professional education (CPE
 ) credits in accordance with the standards of the National Registry of CPE
  Sponsors. CPE credits are granted based on a 50-minute hour.\nReference m
 aterials (any PowerPoint presentations and/or additional references) avail
 able for download.\n\nDaily schedule\nTuesday\, September 9\, 2025\n12:30-
 4 p.m. CT | General provisions\, administrative requirements and procureme
 nt\n\nWednesday\, September 10\, 2025  \n12:30-4 p.m. CT | Monitoring and 
 reporting\, cost principles and cost allocation\n\nThursday\, September 11
 \, 2025\n12:30-4 p.m. CT | Selected items of cost and audit requirements
DTSTART;TZID=America/Denver:20250909T040000
DTEND;TZID=America/Denver:20250911T040001
LOCATION:https://www.wipfli.com/events/nge-omb-uniform-guidance-september-2
 025?utm_medium=email&utm_term=N%2FA&utm_source=CIJ&utm_content=NGE%20-%20U
 pcoming%20Training%20Email%20-%207.7.25%20%28AH%29&utm_campaign=NGE%20-%20
 2025%20Training%20Emails
SUMMARY:WIPFLI - In-Depth training on OMB’s Uniform Guidance
END:VEVENT
END:VCALENDAR
