BEGIN:VCALENDAR
VERSION:2.0
PRODID:-//caputah.org//NONSGML kigkonsult.se iCalcreator 2.30.10//
CALSCALE:GREGORIAN
METHOD:PUBLISH
UID:cebfba49-e721-476f-93ac-efc54d196092
X-WR-CALDESC:\nNCAP invites the entire Community Action Network to a series
  of 15-minute meetings aimed to connect members\, inspire hope and the pow
 er of the Community Action Promise. The entire Network is invited to parti
 cipate monthly. Join us on:\n\nSeptember 15th:  2:00pm ET / 1:00pm CT / 12
 :00pm MT / 11:00am PT \nOctober 10th: 2:00pm ET / 1:00pm CT / 12:00pm MT /
  11:00am PT \nNovember 20th: 4:00pm ET / 3:00pm CT / 2:00pm MT / 1:00pm PT
  \nDecember 11th: 4:00pm ET / 3:00pm CT / 2:00pm MT / 1:00pm PT
X-WR-RELCALID:5afa7c5274b7ebd8f7e07db45b94beef
X-WR-TIMEZONE:America/Denver
BEGIN:VTIMEZONE
TZID:America/Denver
BEGIN:STANDARD
TZNAME:MST
DTSTART:20241103T020000
TZOFFSETFROM:-0600
TZOFFSETTO:-0700
RDATE:20251102T020000
RDATE:20261101T020000
END:STANDARD
BEGIN:DAYLIGHT
TZNAME:MDT
DTSTART:20250309T020000
TZOFFSETFROM:-0700
TZOFFSETTO:-0600
RDATE:20260308T020000
RDATE:20270314T020000
END:DAYLIGHT
END:VTIMEZONE
BEGIN:VEVENT
UID:2c1710f6-492f-484c-b8d7-8b7b85969273
DTSTAMP:20260422T121502Z
DESCRIPTION:\nNCAP invites the entire Community Action Network to a series 
 of 15-minute meetings aimed to connect members\, inspire hope and the powe
 r of the Community Action Promise. The entire Network is invited to partic
 ipate monthly. Join us on:\n\nSeptember 15th:  2:00pm ET / 1:00pm CT / 12:
 00pm MT / 11:00am PT \nOctober 10th: 2:00pm ET / 1:00pm CT / 12:00pm MT / 
 11:00am PT \nNovember 20th: 4:00pm ET / 3:00pm CT / 2:00pm MT / 1:00pm PT 
 \nDecember 11th: 4:00pm ET / 3:00pm CT / 2:00pm MT / 1:00pm PT
DTSTART;TZID=America/Denver:20250915T120000
DTEND;TZID=America/Denver:20250915T121500
LOCATION:https://communityactionpartnership.zoom.us/meeting/register/tBgQD1
 c7Qn2qwifdtkeEHg#/registration
SUMMARY:NCAP - Promise Power Up: September 15\, 2025
END:VEVENT
END:VCALENDAR
