BEGIN:VCALENDAR
VERSION:2.0
PRODID:-//caputah.org//NONSGML kigkonsult.se iCalcreator 2.30.10//
CALSCALE:GREGORIAN
METHOD:PUBLISH
UID:0d8dfc49-168e-4811-a853-aeaebc39a8ed
X-WR-CALDESC:Join the Collaborative on Economic Mobility for a webinar desi
 gned to equip Community Action Agencies with tools and resources to help f
 amilies set financial goals\, identify wealth-building opportunities and m
 ake informed decisions for financial stability and growth. Participants wi
 ll learn from Community Action Agencies who are implementing innovative ap
 proaches to address the financial challenges of families and communities. 
 Gain insight and actionable strategies to help start or strengthen financi
 al education and wealth generation programs that support economic mobility
 .
X-WR-RELCALID:3bb86840c877701e4d4d1f10b0999af8
X-WR-TIMEZONE:America/Denver
BEGIN:VTIMEZONE
TZID:America/Denver
BEGIN:STANDARD
TZNAME:MST
DTSTART:20241103T020000
TZOFFSETFROM:-0600
TZOFFSETTO:-0700
RDATE:20251102T020000
RDATE:20261101T020000
END:STANDARD
BEGIN:DAYLIGHT
TZNAME:MDT
DTSTART:20250309T020000
TZOFFSETFROM:-0700
TZOFFSETTO:-0600
RDATE:20260308T020000
RDATE:20270314T020000
END:DAYLIGHT
END:VTIMEZONE
BEGIN:VEVENT
UID:adb898b6-0c46-4e5b-902c-df9fc237a220
DTSTAMP:20260422T121656Z
DESCRIPTION:Join the Collaborative on Economic Mobility for a webinar desig
 ned to equip Community Action Agencies with tools and resources to help fa
 milies set financial goals\, identify wealth-building opportunities and ma
 ke informed decisions for financial stability and growth. Participants wil
 l learn from Community Action Agencies who are implementing innovative app
 roaches to address the financial challenges of families and communities. G
 ain insight and actionable strategies to help start or strengthen financia
 l education and wealth generation programs that support economic mobility.
DTSTART;TZID=America/Denver:20250917T120000
DTEND;TZID=America/Denver:20250917T130000
LOCATION:https://communityactionpartnership.zoom.us/webinar/register/WN_ix9
 AZhuoQN2j-4q-SANHlA#/registration
SUMMARY:NCAP - Financial Education and Wealth Generation Strategies for Eco
 nomic Mobility
END:VEVENT
END:VCALENDAR
