BEGIN:VCALENDAR
VERSION:2.0
PRODID:-//caputah.org//NONSGML kigkonsult.se iCalcreator 2.30.10//
CALSCALE:GREGORIAN
METHOD:PUBLISH
UID:7cc94d53-afec-403b-b5d2-be3735f5554e
X-WR-CALDESC:Board members can be great partners for your nonprofit’s leade
 rship when it comes to risk management. And that shouldn’t involve the boa
 rd getting into operations. Learn how to have informative\, productive con
 versations about risk with your board.
X-WR-RELCALID:f3d48bf80554919b300e87ab07529b13
X-WR-TIMEZONE:America/Denver
BEGIN:VTIMEZONE
TZID:America/Denver
BEGIN:STANDARD
TZNAME:MST
DTSTART:20241103T020000
TZOFFSETFROM:-0600
TZOFFSETTO:-0700
RDATE:20251102T020000
RDATE:20261101T020000
END:STANDARD
BEGIN:DAYLIGHT
TZNAME:MDT
DTSTART:20250309T020000
TZOFFSETFROM:-0700
TZOFFSETTO:-0600
RDATE:20260308T020000
RDATE:20270314T020000
END:DAYLIGHT
END:VTIMEZONE
BEGIN:VEVENT
UID:553b48f3-09d9-484b-958e-828d83d6dfff
DTSTAMP:20260422T121215Z
DESCRIPTION:Board members can be great partners for your nonprofit’s leader
 ship when it comes to risk management. And that shouldn’t involve the boar
 d getting into operations. Learn how to have informative\, productive conv
 ersations about risk with your board.
DTSTART;TZID=America/Denver:20250917T120000
DTEND;TZID=America/Denver:20250917T130000
LOCATION:https://us02web.zoom.us/webinar/register/WN_qqx3tLI-TICy2PzTJQ-zVQ
 #/registration
SUMMARY:NRMC - How to Engage with Your Board on Risk
END:VEVENT
END:VCALENDAR
