BEGIN:VCALENDAR
VERSION:2.0
PRODID:-//caputah.org//NONSGML kigkonsult.se iCalcreator 2.30.10//
CALSCALE:GREGORIAN
METHOD:PUBLISH
UID:193a5206-5ab3-482c-a225-49a2534cdc23
X-WR-CALDESC:Join us for the 2025 UNA Annual Conference\, Hope in Action\, 
 Utah’s largest gathering of nonprofit professionals\, happening Thursday\,
  September 18 at the Davis Conference Center. The UNA Annual Conference br
 ings you a full day of diverse sessions and speakers that offer insights a
 nd innovative approaches to addressing today's nonprofit challenges and ne
 eds. Register now for this powerful day of connection\, learning\, and ins
 piration! The earlier you register\, the more you save!
X-WR-RELCALID:dd374a843048d90c3517bb8dffd5f864
X-WR-TIMEZONE:America/Denver
BEGIN:VTIMEZONE
TZID:America/Denver
BEGIN:STANDARD
TZNAME:MST
DTSTART:20241103T020000
TZOFFSETFROM:-0600
TZOFFSETTO:-0700
RDATE:20251102T020000
RDATE:20261101T020000
END:STANDARD
BEGIN:DAYLIGHT
TZNAME:MDT
DTSTART:20250309T020000
TZOFFSETFROM:-0700
TZOFFSETTO:-0600
RDATE:20260308T020000
RDATE:20270314T020000
END:DAYLIGHT
END:VTIMEZONE
BEGIN:VEVENT
UID:0856a70a-12e6-4fb5-9c56-f32596bd116b
DTSTAMP:20260422T133812Z
DESCRIPTION:Join us for the 2025 UNA Annual Conference\, Hope in Action\, U
 tah’s largest gathering of nonprofit professionals\, happening Thursday\, 
 September 18 at the Davis Conference Center. The UNA Annual Conference bri
 ngs you a full day of diverse sessions and speakers that offer insights an
 d innovative approaches to addressing today's nonprofit challenges and nee
 ds. Register now for this powerful day of connection\, learning\, and insp
 iration! The earlier you register\, the more you save!
DTSTART;TZID=America/Denver:20250918T040000
DTEND;TZID=America/Denver:20250918T040001
LOCATION:Davis Conference Center\, 1651 N 700 W\, Layton\, UT 84041 US
SUMMARY:UNA - 2025 UNA Annual Conference\, Hope in Action
END:VEVENT
END:VCALENDAR
