BEGIN:VCALENDAR
VERSION:2.0
PRODID:-//caputah.org//NONSGML kigkonsult.se iCalcreator 2.30.10//
CALSCALE:GREGORIAN
METHOD:PUBLISH
UID:17f9b688-0d7d-42b5-906e-4a886a21b138
X-WR-CALDESC:Who Should Attend: Board members\, executive directors\, and a
 nyone involved in board-level financial oversight.\nCost: Free of charge\n
 Note: Sessions will not be recorded—please plan to attend live.\n\nDescrip
 tion: Understanding financial statements is essential for making informed 
 decisions when sitting on a board of directors. This session will guide pa
 rticipants through the key components of financial statements\, the types 
 of reports to request\, and the critical questions to ask when reviewing f
 inancial data. Designed for professionals who interact with financial info
 rmation but may not have a formal accounting background\, this session wil
 l demystify financial reports and empower attendees to engage confidently 
 in financial discussions.\n \nLearning Objectives:\n1.	Identify the primary
  financial statements (Income Statement\, Balance Sheet\, Cash Flow Statem
 ent) and understand their purpose.\n2.	Interpret key financial metrics and 
 ratios to assess organizational performance and financial health.\n3.	Deter
 mine which financial reports to request based on the context (e.g.\, month
 ly performance\, budget vs. actual\, project-specific reports).\n4.	Formula
 te insightful questions to ask when reviewing financial statements\, such 
 as trends\, variances\, and assumptions.\n5.	Apply financial insights to su
 pport strategic decision-making and stakeholder communication.\n
X-WR-RELCALID:5fafe8851f4567e13ab3f7577ce44e5b
X-WR-TIMEZONE:America/Denver
BEGIN:VTIMEZONE
TZID:America/Denver
BEGIN:STANDARD
TZNAME:MST
DTSTART:20241103T020000
TZOFFSETFROM:-0600
TZOFFSETTO:-0700
RDATE:20251102T020000
RDATE:20261101T020000
END:STANDARD
BEGIN:DAYLIGHT
TZNAME:MDT
DTSTART:20250309T020000
TZOFFSETFROM:-0700
TZOFFSETTO:-0600
RDATE:20260308T020000
RDATE:20270314T020000
END:DAYLIGHT
END:VTIMEZONE
BEGIN:VEVENT
UID:68ea790d-3da1-4779-bff2-bf7ed84fda2f
DTSTAMP:20260422T121935Z
DESCRIPTION:Who Should Attend: Board members\, executive directors\, and an
 yone involved in board-level financial oversight.\nCost: Free of charge\nN
 ote: Sessions will not be recorded—please plan to attend live.\n\nDescript
 ion: Understanding financial statements is essential for making informed d
 ecisions when sitting on a board of directors. This session will guide par
 ticipants through the key components of financial statements\, the types o
 f reports to request\, and the critical questions to ask when reviewing fi
 nancial data. Designed for professionals who interact with financial infor
 mation but may not have a formal accounting background\, this session will
  demystify financial reports and empower attendees to engage confidently i
 n financial discussions.\n \nLearning Objectives:\n1.	Identify the primary 
 financial statements (Income Statement\, Balance Sheet\, Cash Flow Stateme
 nt) and understand their purpose.\n2.	Interpret key financial metrics and r
 atios to assess organizational performance and financial health.\n3.	Determ
 ine which financial reports to request based on the context (e.g.\, monthl
 y performance\, budget vs. actual\, project-specific reports).\n4.	Formulat
 e insightful questions to ask when reviewing financial statements\, such a
 s trends\, variances\, and assumptions.\n5.	Apply financial insights to sup
 port strategic decision-making and stakeholder communication.\n
DTSTART;TZID=America/Denver:20250919T123000
DTEND;TZID=America/Denver:20250919T140000
LOCATION:https://us06web.zoom.us/meeting/register/vbs8N-nqRqyRTvshYyYzkA#/r
 egistration
SUMMARY:Region 8 RPIC - Region 8 RPIC Board Trainings with WIPFLI - Part On
 e: Decoding Financial Statements: What to Ask\, What to Request\, and How 
 to Interpret
END:VEVENT
END:VCALENDAR
