BEGIN:VCALENDAR
VERSION:2.0
PRODID:-//caputah.org//NONSGML kigkonsult.se iCalcreator 2.30.10//
CALSCALE:GREGORIAN
METHOD:PUBLISH
UID:ffa5da7c-56c0-44dd-9b72-1860ffea9170
X-WR-CALDESC:This regular quarterly call for public CAAs (situated within u
 nits of local government) will focus on peer exchange as we approach fall 
 2025 amid uncertainty around federal funding and potential contract delays
 . Agencies will have the chance to share strategies and discuss ways to na
 vigate the months ahead together.
X-WR-RELCALID:38d3399cc099f358889311553209c902
X-WR-TIMEZONE:America/Denver
BEGIN:VTIMEZONE
TZID:America/Denver
BEGIN:STANDARD
TZNAME:MST
DTSTART:20241103T020000
TZOFFSETFROM:-0600
TZOFFSETTO:-0700
RDATE:20251102T020000
RDATE:20261101T020000
END:STANDARD
BEGIN:DAYLIGHT
TZNAME:MDT
DTSTART:20250309T020000
TZOFFSETFROM:-0700
TZOFFSETTO:-0600
RDATE:20260308T020000
RDATE:20270314T020000
END:DAYLIGHT
END:VTIMEZONE
BEGIN:VEVENT
UID:a6eb9b42-1cff-472b-a30c-d09c5d52301f
DTSTAMP:20260422T121050Z
DESCRIPTION:This regular quarterly call for public CAAs (situated within un
 its of local government) will focus on peer exchange as we approach fall 2
 025 amid uncertainty around federal funding and potential contract delays.
  Agencies will have the chance to share strategies and discuss ways to nav
 igate the months ahead together.
DTSTART;TZID=America/Denver:20250924T130000
DTEND;TZID=America/Denver:20250924T140000
LOCATION:https://communityactionpartnership.zoom.us/meeting/register/t2-DaX
 DNQ7KvloYiiA2Z5g#/registration
SUMMARY:NCAP - Public CAA Quarterly Call – Navigating Fall 2025
END:VEVENT
END:VCALENDAR
