BEGIN:VCALENDAR
VERSION:2.0
PRODID:-//caputah.org//NONSGML kigkonsult.se iCalcreator 2.30.10//
CALSCALE:GREGORIAN
METHOD:PUBLISH
UID:f80a791e-d97d-4f04-8942-8f39dd82d6ed
X-WR-CALDESC:\nOctober is Energy Awareness Month! NCAP’s 2025 Energy Awaren
 ess Month Toolkit is designed to assist you in your social media\, email\,
  and other outreach communications efforts all throughout October. This to
 olkit provides information\, talking points\, and graphic templates that e
 xpress the energy needs your customers are facing\, as well as actions Com
 munity Action and other weatherization agencies are taking to address this
  need. Topics covered include household savings\, indoor air quality impac
 ts\, local workforce development benefits\, Weatherization Day (October 30
 ) and more. \n\nJoin us as we walk through this toolkit and provide additi
 onal tips and ideas on how to plan your Energy Awareness Month and Weather
 ization Day posts\, activities\, and events.
X-WR-RELCALID:3b318649700eb88ac1ab77feb1f6a7ad
X-WR-TIMEZONE:America/Denver
BEGIN:VTIMEZONE
TZID:America/Denver
BEGIN:STANDARD
TZNAME:MST
DTSTART:20241103T020000
TZOFFSETFROM:-0600
TZOFFSETTO:-0700
RDATE:20251102T020000
RDATE:20261101T020000
END:STANDARD
BEGIN:DAYLIGHT
TZNAME:MDT
DTSTART:20250309T020000
TZOFFSETFROM:-0700
TZOFFSETTO:-0600
RDATE:20260308T020000
RDATE:20270314T020000
END:DAYLIGHT
END:VTIMEZONE
BEGIN:VEVENT
UID:096a62c5-1aed-4e91-b21d-ab4fdd7e6415
DTSTAMP:20260422T121403Z
DESCRIPTION:\nOctober is Energy Awareness Month! NCAP’s 2025 Energy Awarene
 ss Month Toolkit is designed to assist you in your social media\, email\, 
 and other outreach communications efforts all throughout October. This too
 lkit provides information\, talking points\, and graphic templates that ex
 press the energy needs your customers are facing\, as well as actions Comm
 unity Action and other weatherization agencies are taking to address this 
 need. Topics covered include household savings\, indoor air quality impact
 s\, local workforce development benefits\, Weatherization Day (October 30)
  and more. \n\nJoin us as we walk through this toolkit and provide additio
 nal tips and ideas on how to plan your Energy Awareness Month and Weatheri
 zation Day posts\, activities\, and events.
DTSTART;TZID=America/Denver:20250925T080000
DTEND;TZID=America/Denver:20250925T090000
LOCATION:https://communityactionpartnership.zoom.us/webinar/register/WN_a5D
 tTiXCRVmyuKNpOxkjZA#/registration
SUMMARY:NCAP - Energy Awareness Month and Weatherization Day Toolkit Webina
 r
END:VEVENT
END:VCALENDAR
