BEGIN:VCALENDAR
VERSION:2.0
PRODID:-//caputah.org//NONSGML kigkonsult.se iCalcreator 2.30.10//
CALSCALE:GREGORIAN
METHOD:PUBLISH
UID:f5562522-3c65-4447-b9b5-395039c9a757
X-WR-CALDESC:Progressive organizations working on social justice issues fac
 e unique challenges during these turbulent times as they navigate external
  and internal barriers to their work. While external barriers around fundi
 ng\, resources\, the socio-political climate\, and policy shifts will cont
 inue to exist for nonprofits\, it’s the compounding internal challenges re
 lated to cancel culture within their organizations\, movements\, and coali
 tions that are leading to toxic workplaces\, burnout\, and turnover.\n\nTh
 is workshop will unpack how progressive organizations face these additiona
 l and/or different challenges and what staff can do to create a thriving o
 rganization of belonging where they can focus on their mission-oriented wo
 rk and make a bigger impact. Using Maurice Mitchell’s Building Resilient O
 rganizations article as a guide\, we will reflect on how specific barriers
  to belonging related to cancel culture might be showing up in our organiz
 ations and identify actions to better navigate these challenges.\n\nLearni
 ng Objectives:\n\nUnpack how cancel culture in progressive organizations i
 s eroding the effectiveness and impact of their mission-driven work\, and 
 why a workplace culture of belonging is important to cultivate\nReflect on
  how specific barriers to belonging related to cancel culture might be sho
 wing up in our organizations\nIdentify actions to better navigate these ch
 allenges\nRegister Here\n\nCost:\nUNA Members: $50 (Using the discount cod
 e found in the Info Hub under Partner Training Discount Codes)\nNot-Yet-Me
 mbers: $70\n\nThis event is hosted in partnership with Minnesota Council o
 f Nonprofits. This virtual event will take place on the Zoom platform. You
 r access link will be emailed to you the day before the event after 12 p.m
 .\n\nThis session will be recorded. The recording will be made available t
 o registrants after the live event.
X-WR-RELCALID:c809f51d295eecd0e17cbc0d27683edc
X-WR-TIMEZONE:America/Denver
BEGIN:VTIMEZONE
TZID:America/Denver
BEGIN:STANDARD
TZNAME:MST
DTSTART:20241103T020000
TZOFFSETFROM:-0600
TZOFFSETTO:-0700
RDATE:20251102T020000
RDATE:20261101T020000
END:STANDARD
BEGIN:DAYLIGHT
TZNAME:MDT
DTSTART:20250309T020000
TZOFFSETFROM:-0700
TZOFFSETTO:-0600
RDATE:20260308T020000
RDATE:20270314T020000
END:DAYLIGHT
END:VTIMEZONE
BEGIN:VEVENT
UID:bbadea56-13ec-437c-9d0f-6e7766e35db9
DTSTAMP:20260422T121754Z
DESCRIPTION:Progressive organizations working on social justice issues face
  unique challenges during these turbulent times as they navigate external 
 and internal barriers to their work. While external barriers around fundin
 g\, resources\, the socio-political climate\, and policy shifts will conti
 nue to exist for nonprofits\, it’s the compounding internal challenges rel
 ated to cancel culture within their organizations\, movements\, and coalit
 ions that are leading to toxic workplaces\, burnout\, and turnover.\n\nThi
 s workshop will unpack how progressive organizations face these additional
  and/or different challenges and what staff can do to create a thriving or
 ganization of belonging where they can focus on their mission-oriented wor
 k and make a bigger impact. Using Maurice Mitchell’s Building Resilient Or
 ganizations article as a guide\, we will reflect on how specific barriers 
 to belonging related to cancel culture might be showing up in our organiza
 tions and identify actions to better navigate these challenges.\n\nLearnin
 g Objectives:\n\nUnpack how cancel culture in progressive organizations is
  eroding the effectiveness and impact of their mission-driven work\, and w
 hy a workplace culture of belonging is important to cultivate\nReflect on 
 how specific barriers to belonging related to cancel culture might be show
 ing up in our organizations\nIdentify actions to better navigate these cha
 llenges\nRegister Here\n\nCost:\nUNA Members: $50 (Using the discount code
  found in the Info Hub under Partner Training Discount Codes)\nNot-Yet-Mem
 bers: $70\n\nThis event is hosted in partnership with Minnesota Council of
  Nonprofits. This virtual event will take place on the Zoom platform. Your
  access link will be emailed to you the day before the event after 12 p.m.
 \n\nThis session will be recorded. The recording will be made available to
  registrants after the live event.
DTSTART;TZID=America/Denver:20250925T090000
DTEND;TZID=America/Denver:20250925T110000
LOCATION:https://members.utahnonprofits.org/una-event-calendar/Details/canc
 el-culture-and-bridging-toward-belonging-in-progressive-organizations-1453
 558?sourceTypeId=Website
SUMMARY:UNA - Cancel Culture and Bridging Toward Belonging in Progressive O
 rganizations
END:VEVENT
END:VCALENDAR
