BEGIN:VCALENDAR
VERSION:2.0
PRODID:-//caputah.org//NONSGML kigkonsult.se iCalcreator 2.30.10//
CALSCALE:GREGORIAN
METHOD:PUBLISH
UID:d9936d52-5649-4591-8a44-072c6e087929
X-WR-CALDESC:Who Should Attend?\n\nThese conversations are exclusively for 
 Executive Directors/CEOs of member nonprofit organizations.\n\nBuild authe
 ntic and trusted relationships with extraordinary\, like-minded peers. Joi
 n this Executive Director Community Circle to find and give support and to
  have those unexpected and happy conversations that spark exciting ideas o
 r solve problems. This Community Circle is for EDs who engage and lead in 
 Utah's unique rural locations\, as well as ED's from across the Wasatch Fr
 ont and Salt Lake City. \n\nThese confidential discussions create a safe a
 nd private space for you to build long-term relationships and cultivate tr
 ust in the nonprofit community. Attend to make your nonprofit stronger and
  more resilient and to pay forward the gifts of those who trained\, encour
 aged\, and mentored you. Your world and your impact will become larger and
  more powerful. \n\nWhy Attend: \n\nExpand your reach and your capacity. Y
 ou’ll benefit from with new ideas\, resources\, and relationships. \nKeep 
 up to date with trends and best practices within your segment\, region\, a
 nd Utah’s nonprofit community.\nLearn about and share new technology or se
 rvices that can help you save time\, money\, and frustration.\nFind help a
 nd provide support to the people who understand your work and share your v
 ision for a new and better world.\nSharing your experience and expertise l
 ifts the nonprofit community and feels oh so good!\nUNA Members: Please lo
 g in to register for this event. \n\nNote: Community Circle sessions are n
 ot recorded.
X-WR-RELCALID:86f500a3bbd903e942fceb7645737bb0
X-WR-TIMEZONE:America/Denver
BEGIN:VTIMEZONE
TZID:America/Denver
BEGIN:STANDARD
TZNAME:MST
DTSTART:20241103T020000
TZOFFSETFROM:-0600
TZOFFSETTO:-0700
RDATE:20251102T020000
RDATE:20261101T020000
END:STANDARD
BEGIN:DAYLIGHT
TZNAME:MDT
DTSTART:20250309T020000
TZOFFSETFROM:-0700
TZOFFSETTO:-0600
RDATE:20260308T020000
RDATE:20270314T020000
END:DAYLIGHT
END:VTIMEZONE
BEGIN:VEVENT
UID:22b29d62-f301-4ff1-9553-445304578501
DTSTAMP:20260422T121144Z
DESCRIPTION:Who Should Attend?\n\nThese conversations are exclusively for E
 xecutive Directors/CEOs of member nonprofit organizations.\n\nBuild authen
 tic and trusted relationships with extraordinary\, like-minded peers. Join
  this Executive Director Community Circle to find and give support and to 
 have those unexpected and happy conversations that spark exciting ideas or
  solve problems. This Community Circle is for EDs who engage and lead in U
 tah's unique rural locations\, as well as ED's from across the Wasatch Fro
 nt and Salt Lake City. \n\nThese confidential discussions create a safe an
 d private space for you to build long-term relationships and cultivate tru
 st in the nonprofit community. Attend to make your nonprofit stronger and 
 more resilient and to pay forward the gifts of those who trained\, encoura
 ged\, and mentored you. Your world and your impact will become larger and 
 more powerful. \n\nWhy Attend: \n\nExpand your reach and your capacity. Yo
 u’ll benefit from with new ideas\, resources\, and relationships. \nKeep u
 p to date with trends and best practices within your segment\, region\, an
 d Utah’s nonprofit community.\nLearn about and share new technology or ser
 vices that can help you save time\, money\, and frustration.\nFind help an
 d provide support to the people who understand your work and share your vi
 sion for a new and better world.\nSharing your experience and expertise li
 fts the nonprofit community and feels oh so good!\nUNA Members: Please log
  in to register for this event. \n\nNote: Community Circle sessions are no
 t recorded.
DTSTART;TZID=America/Denver:20250925T100000
DTEND;TZID=America/Denver:20250925T110000
LOCATION:https://members.utahnonprofits.org/una-event-calendar/Details/virt
 ual-executive-director-community-circle-september-2025-1446998?sourceTypeI
 d=Website
SUMMARY:UNA - Virtual Executive Director Community Circle September 2025
END:VEVENT
END:VCALENDAR
