BEGIN:VCALENDAR
VERSION:2.0
PRODID:-//caputah.org//NONSGML kigkonsult.se iCalcreator 2.30.10//
CALSCALE:GREGORIAN
METHOD:PUBLISH
UID:305ea335-74aa-42f6-bf3f-e3d4c317c2bb
X-WR-CALDESC:Are you new to grant accounting? This beginner-level training 
 series is tailored for finance staff stepping into the world of grant acco
 unting and compliance. Through a series of focused sessions\, you’ll build
  a foundation in the essential elements of grant management—from navigatin
 g federal regulations and applying internal controls to handling cost allo
 cation and reporting.\n\nWhether you are supporting a single grant or mana
 ging multiple funding streams\, this series will help you build confidence
 \, support your entity’s funding responsibilities and contribute to your c
 ommunity programs.\n\nLearning objectives:\nExperience an overview of gran
 t-funded accounting and administration.\nGain practical steps for applying
  internal controls and documentation practices.\nReview guidance on using 
 Uniform Guidance (2 CFR Part 200) in daily work.\nDiscover strategies for 
 distributing shared costs and preparing reports.\nExplore tools to strengt
 hen policies\, procedures and financial leadership.\nJoin us to grow your 
 skills\, support your team and lay the groundwork for grant success.\n\nRe
 gistration fee\n$1200 per connection\n\nMy Wipfli nonprofit and government
  membership service members automatically receive an additional $25 discou
 nt per registrant.\n\nThe registration fee includes:\n\nUp to 12 continuin
 g professional education (CPE) credits in accordance with the standards of
  the National Registry of CPE Sponsors. CPE credits are granted based on a
  50-minute hour.\nReference materials (any PowerPoint presentations and/or
  additional references) available for download.\n\nDaily schedule\n8/14   
   Kick-off and intro to series (1-2 p.m. CT\, no CPE)\n\n8/21     Intro to
  grant-funded accounting (1-3 p.m. CT\, CPE available)\n\n8/28     Intro t
 o grants administration (1-3 p.m. CT\, CPE available)\n\n9/4       Intro t
 o internal controls\, documentation and policies (1-3 p.m. CT\, CPE availa
 ble)\n\n9/11     Intro to Uniform Guidance (1-3 p.m. CT\, CPE available)\n
 \n9/18     Intro to cost allocation (1-3 p.m. CT\, CPE available)\n\n9/25 
     Intro to reporting (1-3 p.m. CT\, CPE available)\n\nBe prepared\nYou’l
 l receive an email once you’ve been added to our event-hosting platform\, 
 as well as reminders one day and one hour prior to the training. Materials
  will be available one hour before the training until one day after the tr
 aining.
X-WR-RELCALID:b22956e0ec10ff1c028ce97e7d731753
X-WR-TIMEZONE:America/Denver
BEGIN:VTIMEZONE
TZID:America/Denver
BEGIN:STANDARD
TZNAME:MST
DTSTART:20241103T020000
TZOFFSETFROM:-0600
TZOFFSETTO:-0700
RDATE:20251102T020000
RDATE:20261101T020000
END:STANDARD
BEGIN:DAYLIGHT
TZNAME:MDT
DTSTART:20250309T020000
TZOFFSETFROM:-0700
TZOFFSETTO:-0600
RDATE:20260308T020000
RDATE:20270314T020000
END:DAYLIGHT
END:VTIMEZONE
BEGIN:VEVENT
UID:514fdea9-e780-4d15-b962-8c9cd273f962
DTSTAMP:20260422T133822Z
DESCRIPTION:Are you new to grant accounting? This beginner-level training s
 eries is tailored for finance staff stepping into the world of grant accou
 nting and compliance. Through a series of focused sessions\, you’ll build 
 a foundation in the essential elements of grant management—from navigating
  federal regulations and applying internal controls to handling cost alloc
 ation and reporting.\n\nWhether you are supporting a single grant or manag
 ing multiple funding streams\, this series will help you build confidence\
 , support your entity’s funding responsibilities and contribute to your co
 mmunity programs.\n\nLearning objectives:\nExperience an overview of grant
 -funded accounting and administration.\nGain practical steps for applying 
 internal controls and documentation practices.\nReview guidance on using U
 niform Guidance (2 CFR Part 200) in daily work.\nDiscover strategies for d
 istributing shared costs and preparing reports.\nExplore tools to strength
 en policies\, procedures and financial leadership.\nJoin us to grow your s
 kills\, support your team and lay the groundwork for grant success.\n\nReg
 istration fee\n$1200 per connection\n\nMy Wipfli nonprofit and government 
 membership service members automatically receive an additional $25 discoun
 t per registrant.\n\nThe registration fee includes:\n\nUp to 12 continuing
  professional education (CPE) credits in accordance with the standards of 
 the National Registry of CPE Sponsors. CPE credits are granted based on a 
 50-minute hour.\nReference materials (any PowerPoint presentations and/or 
 additional references) available for download.\n\nDaily schedule\n8/14    
  Kick-off and intro to series (1-2 p.m. CT\, no CPE)\n\n8/21     Intro to 
 grant-funded accounting (1-3 p.m. CT\, CPE available)\n\n8/28     Intro to
  grants administration (1-3 p.m. CT\, CPE available)\n\n9/4       Intro to
  internal controls\, documentation and policies (1-3 p.m. CT\, CPE availab
 le)\n\n9/11     Intro to Uniform Guidance (1-3 p.m. CT\, CPE available)\n
 \n9/18     Intro to cost allocation (1-3 p.m. CT\, CPE available)\n\n9/25 
     Intro to reporting (1-3 p.m. CT\, CPE available)\n\nBe prepared\nYou’l
 l receive an email once you’ve been added to our event-hosting platform\, 
 as well as reminders one day and one hour prior to the training. Materials
  will be available one hour before the training until one day after the tr
 aining.
DTSTART;TZID=America/Denver:20250925T120000
DTEND;TZID=America/Denver:20250925T140000
LOCATION:https://www.wipfli.com/events/nge-grant-finance-fundamentals-a-beg
 inners-101-training-series?utm_medium=email&utm_term=N%2FA&utm_source=CIJ&
 utm_content=NGE%20-%20Grant%20Finance%20Email%201%20-%207.29.25%20%28KA%29
 &utm_campaign=NGE%20-%202024%20Training%2
SUMMARY:WIPFLI - Grant-funded accounting 101 fundamentals: A beginner’s tra
 ining series - Intro to reporting
END:VEVENT
END:VCALENDAR
