BEGIN:VCALENDAR
VERSION:2.0
PRODID:-//caputah.org//NONSGML kigkonsult.se iCalcreator 2.30.10//
CALSCALE:GREGORIAN
METHOD:PUBLISH
UID:91073b7e-e832-4d42-b789-f1caa0990677
X-WR-CALDESC:Who Should Attend: Board members\, executive directors\, and a
 nyone involved in board-level financial oversight.\nCost: Free of charge\n
 Note: Sessions will not be recorded—please plan to attend live.\n\nDescrip
 tion: This session explores the many areas of fiscal responsibility that b
 oards and CEOs/EDs need to address when working together. Topics covered i
 nclude fiscal responsibility\, roles\, budgets\, fundraising\, risk and ap
 provals. Both new and experienced board members will benefit.\n \nLearning
  Objectives:\n1. Explore board roles and responsibilities as they relate t
 o finances.\n2. Identify ways to work together more effectively.\n3. Disco
 ver how fiscal responsibility is more than just the financial statements. 
 \n
X-WR-RELCALID:566bb5e2201904260bea1ed93cf480d8
X-WR-TIMEZONE:America/Denver
BEGIN:VTIMEZONE
TZID:America/Denver
BEGIN:STANDARD
TZNAME:MST
DTSTART:20241103T020000
TZOFFSETFROM:-0600
TZOFFSETTO:-0700
RDATE:20251102T020000
RDATE:20261101T020000
END:STANDARD
BEGIN:DAYLIGHT
TZNAME:MDT
DTSTART:20250309T020000
TZOFFSETFROM:-0700
TZOFFSETTO:-0600
RDATE:20260308T020000
RDATE:20270314T020000
END:DAYLIGHT
END:VTIMEZONE
BEGIN:VEVENT
UID:37d18fff-fe61-4c73-8a2d-b5fe546e78c6
DTSTAMP:20260422T121939Z
DESCRIPTION:Who Should Attend: Board members\, executive directors\, and an
 yone involved in board-level financial oversight.\nCost: Free of charge\nN
 ote: Sessions will not be recorded—please plan to attend live.\n\nDescript
 ion: This session explores the many areas of fiscal responsibility that bo
 ards and CEOs/EDs need to address when working together. Topics covered in
 clude fiscal responsibility\, roles\, budgets\, fundraising\, risk and app
 rovals. Both new and experienced board members will benefit.\n \nLearning 
 Objectives:\n1. Explore board roles and responsibilities as they relate to
  finances.\n2. Identify ways to work together more effectively.\n3. Discov
 er how fiscal responsibility is more than just the financial statements. 
 \n
DTSTART;TZID=America/Denver:20250926T123000
DTEND;TZID=America/Denver:20250926T140000
LOCATION:https://us06web.zoom.us/meeting/register/vbs8N-nqRqyRTvshYyYzkA#/r
 egistration
SUMMARY:Region 8 RPIC - Region 8 RPIC Board Trainings with WIPFLI - Part Tw
 o: Boards and Executive Directors Working Together Related to Finances
END:VEVENT
END:VCALENDAR
