BEGIN:VCALENDAR
VERSION:2.0
PRODID:-//caputah.org//NONSGML kigkonsult.se iCalcreator 2.30.10//
CALSCALE:GREGORIAN
METHOD:PUBLISH
UID:7b5a50a0-28b6-4d15-baa8-a65cce48d452
X-WR-CALDESC:David will breakdown the knowns and unknowns of the possible G
 overnment shutdown. \n\nBe sure your agency is subscribed to CAPFacts for 
 accurate and current information. And\, keep an eye www.ncaf.org to see th
 e chance of averting a government shutdown – updated daily.\n\nAll registr
 ation will be approved starting Monday September 22nd. Agency Directors wi
 ll have priority if capacity is reached.
X-WR-RELCALID:902f8379fe197405e85f209768eb7d0f
X-WR-TIMEZONE:America/Denver
BEGIN:VTIMEZONE
TZID:America/Denver
BEGIN:STANDARD
TZNAME:MST
DTSTART:20241103T020000
TZOFFSETFROM:-0600
TZOFFSETTO:-0700
RDATE:20251102T020000
RDATE:20261101T020000
END:STANDARD
BEGIN:DAYLIGHT
TZNAME:MDT
DTSTART:20250309T020000
TZOFFSETFROM:-0700
TZOFFSETTO:-0600
RDATE:20260308T020000
RDATE:20270314T020000
END:DAYLIGHT
END:VTIMEZONE
BEGIN:VEVENT
UID:2d50d442-d64e-4ab6-b902-b67c76b6569d
DTSTAMP:20260422T121009Z
DESCRIPTION:David will breakdown the knowns and unknowns of the possible Go
 vernment shutdown. \n\nBe sure your agency is subscribed to CAPFacts for a
 ccurate and current information. And\, keep an eye www.ncaf.org to see the
  chance of averting a government shutdown – updated daily.\n\nAll registra
 tion will be approved starting Monday September 22nd. Agency Directors wil
 l have priority if capacity is reached.
DTSTART;TZID=America/Denver:20250929T120000
DTEND;TZID=America/Denver:20250929T130000
LOCATION:https://us02web.zoom.us/webinar/register/WN_zNDPN4h1RhyJ3ZDgndLCoA
 #/registration
SUMMARY:NCAF - Shutdown Showdown Coffee Chat
END:VEVENT
END:VCALENDAR
