BEGIN:VCALENDAR
VERSION:2.0
PRODID:-//caputah.org//NONSGML kigkonsult.se iCalcreator 2.30.10//
CALSCALE:GREGORIAN
METHOD:PUBLISH
UID:e0f98a98-3271-4884-8a78-742396a1834d
X-WR-CALDESC:Join NCAP endorsed vendor\, First Nonprofit\, for this upcomin
 g webinar!\n\nABOUT THE WEBINAR\n\nNavigating unemployment costs\, HR chal
 lenges\, and compliance requirements can feel overwhelming—but it doesn’t 
 have to be. Join this insightful webinar to discover practical strategies 
 that will help your CAA stay financially resilient\, compliant\, and effic
 ient.\n\nWhat you’ll gain:\n\nMastering Unemployment Expenses – Learn how 
 to evaluate and manage unemployment costs effectively while navigating pen
 ding state and federal legislation that could impact your budget in 2026.
 \nRemote Workforce Compliance – Stay ahead of state-specific unemployment 
 regulations for remote employees and ensure your CAA remains compliant.\nO
 ptimizing HR Processes – Discover strategies to streamline HR operations\,
  enhance regulatory compliance\, and reduce administrative burdens.\nDon’t
  miss this opportunity to equip your CAA with the tools it needs to thrive
  in today’s complex landscape. Join us and gain valuable insights to safeg
 uard your organization’s future!
X-WR-RELCALID:0b66eddb27669bdbb88f77ceed41db53
X-WR-TIMEZONE:America/Denver
BEGIN:VTIMEZONE
TZID:America/Denver
BEGIN:STANDARD
TZNAME:MST
DTSTART:20241103T020000
TZOFFSETFROM:-0600
TZOFFSETTO:-0700
RDATE:20251102T020000
RDATE:20261101T020000
END:STANDARD
BEGIN:DAYLIGHT
TZNAME:MDT
DTSTART:20250309T020000
TZOFFSETFROM:-0700
TZOFFSETTO:-0600
RDATE:20260308T020000
RDATE:20270314T020000
END:DAYLIGHT
END:VTIMEZONE
BEGIN:VEVENT
UID:2ea426c7-6251-4830-8170-2dcdef7836dc
DTSTAMP:20260422T121800Z
DESCRIPTION:Join NCAP endorsed vendor\, First Nonprofit\, for this upcoming
  webinar!\n\nABOUT THE WEBINAR\n\nNavigating unemployment costs\, HR chall
 enges\, and compliance requirements can feel overwhelming—but it doesn’t h
 ave to be. Join this insightful webinar to discover practical strategies t
 hat will help your CAA stay financially resilient\, compliant\, and effici
 ent.\n\nWhat you’ll gain:\n\nMastering Unemployment Expenses – Learn how t
 o evaluate and manage unemployment costs effectively while navigating pend
 ing state and federal legislation that could impact your budget in 2026.\n
 Remote Workforce Compliance – Stay ahead of state-specific unemployment re
 gulations for remote employees and ensure your CAA remains compliant.\nOpt
 imizing HR Processes – Discover strategies to streamline HR operations\, e
 nhance regulatory compliance\, and reduce administrative burdens.\nDon’t m
 iss this opportunity to equip your CAA with the tools it needs to thrive i
 n today’s complex landscape. Join us and gain valuable insights to safegua
 rd your organization’s future!
DTSTART;TZID=America/Denver:20250930T120000
DTEND;TZID=America/Denver:20250930T130000
LOCATION:https://communityactionpartnership.com/event/safeguarding-your-caa
 -strategies-for-unemployment-hr/
SUMMARY:NCAP - Safeguarding Your CAA: Strategies for Unemployment & HR
END:VEVENT
END:VCALENDAR
