BEGIN:VCALENDAR
VERSION:2.0
PRODID:-//caputah.org//NONSGML kigkonsult.se iCalcreator 2.30.10//
CALSCALE:GREGORIAN
METHOD:PUBLISH
UID:67ea5c51-ab65-4c94-b292-2b1ab23b47ab
X-WR-CALDESC:Join NCAP for a continuation of the Roundtable series for curr
 ent Community Action Executive Directors and CEOs. The Roundtables are des
 igned to provide space for an engaging session where EDs and CEOs will hav
 e the opportunity to participate in confidential small group discussions w
 ith peers.\n\nThese Roundtables are an opportunity to discuss emerging iss
 ues\, get updates on available tools and resources\, and learn effective s
 trategies from your peers. EDs and CEOs may sign up for one or more roundt
 able sessions.\n\nRegister now to attend the Roundtables in October!
X-WR-RELCALID:7eb25e3d08fa5a656d303abbb5a113e2
X-WR-TIMEZONE:America/Denver
BEGIN:VTIMEZONE
TZID:America/Denver
BEGIN:STANDARD
TZNAME:MST
DTSTART:20241103T020000
TZOFFSETFROM:-0600
TZOFFSETTO:-0700
RDATE:20251102T020000
RDATE:20261101T020000
END:STANDARD
BEGIN:DAYLIGHT
TZNAME:MDT
DTSTART:20250309T020000
TZOFFSETFROM:-0700
TZOFFSETTO:-0600
RDATE:20260308T020000
RDATE:20270314T020000
END:DAYLIGHT
END:VTIMEZONE
BEGIN:VEVENT
UID:3e6d79ed-9b0c-4bf2-b74b-3bf621e7b430
DTSTAMP:20260422T104656Z
DESCRIPTION:Join NCAP for a continuation of the Roundtable series for curre
 nt Community Action Executive Directors and CEOs. The Roundtables are desi
 gned to provide space for an engaging session where EDs and CEOs will have
  the opportunity to participate in confidential small group discussions wi
 th peers.\n\nThese Roundtables are an opportunity to discuss emerging issu
 es\, get updates on available tools and resources\, and learn effective st
 rategies from your peers. EDs and CEOs may sign up for one or more roundta
 ble sessions.\n\nRegister now to attend the Roundtables in October!
DTSTART;TZID=America/Denver:20251003T120000
DTEND;TZID=America/Denver:20251003T130000
LOCATION:https://ncap.users.membersuite.com/events/9a6db3bd-0078-c4b1-a1b0-
 0b48bc5b11de/details
SUMMARY:NCAP - October 2025 ED/CEO Roundtables - Responding to the Shifting
  Landscape - 10/1/25 and 10/3/25
END:VEVENT
END:VCALENDAR
