BEGIN:VCALENDAR
VERSION:2.0
PRODID:-//caputah.org//NONSGML kigkonsult.se iCalcreator 2.30.10//
CALSCALE:GREGORIAN
METHOD:PUBLISH
UID:24cb50a3-ebef-4555-8db3-93fc75464126
X-WR-CALDESC:Welcome to the 2025 Access to Justice Summit! Join us for a da
 y of insightful discussions\, networking opportunities\, and workshops foc
 used on improving access to justice for all. This in-person event will be 
 held at 645 S 200 E\, where legal professionals\, legal aid organizations\
 , and advocates will come together to address key issues and explore innov
 ative solutions. Don't miss this chance to be part of the conversation and
  drive positive change in the legal system. Register now for free to secur
 e your spot (seats are limited)!
X-WR-RELCALID:cf104853b0958a4d70ae9683822534e4
X-WR-TIMEZONE:America/Denver
BEGIN:VTIMEZONE
TZID:America/Denver
BEGIN:STANDARD
TZNAME:MST
DTSTART:20241103T020000
TZOFFSETFROM:-0600
TZOFFSETTO:-0700
RDATE:20251102T020000
RDATE:20261101T020000
END:STANDARD
BEGIN:DAYLIGHT
TZNAME:MDT
DTSTART:20250309T020000
TZOFFSETFROM:-0700
TZOFFSETTO:-0600
RDATE:20260308T020000
RDATE:20270314T020000
END:DAYLIGHT
END:VTIMEZONE
BEGIN:VEVENT
UID:3cce00cd-f628-4b34-a6b8-a20d91465e33
DTSTAMP:20260422T104112Z
DESCRIPTION:Welcome to the 2025 Access to Justice Summit! Join us for a day
  of insightful discussions\, networking opportunities\, and workshops focu
 sed on improving access to justice for all. This in-person event will be h
 eld at 645 S 200 E\, where legal professionals\, legal aid organizations\,
  and advocates will come together to address key issues and explore innova
 tive solutions. Don't miss this chance to be part of the conversation and 
 drive positive change in the legal system. Register now for free to secure
  your spot (seats are limited)!
DTSTART;TZID=America/Denver:20251003T080000
DTEND;TZID=America/Denver:20251003T170000
LOCATION:Utah Law and Justice Center\, 645 S 200 E\, Salt Lake City\, UT 84
 111 US
SUMMARY:Utah State Bar - 2025 Access to Justice Summit
END:VEVENT
END:VCALENDAR
